Workbook
Name Add: 'Vending Compliance'!$AF$342
Name Add_Your_Own: 'Vending Compliance'!$A$342
Name Add_Your_Own_Fruit_Yogurt: 'Vending Compliance'!$A$1016
Name Calories: Admin!$A$3:$A$4
Name Considered: Admin!#REF!
Name Fat: Admin!$C$3:$C$5
Name Fruit: 'Vending Compliance'!$AF$1002
Name Fruit_Yogurt: 'Vending Compliance'!$A$1002
Name Fruit_Yogurt___Excempt_from_Sugar_Limit__Assumes_low_added_sugar: #REF!
Name Input_Your_Vending_Policy: 'Vending Compliance'!$D$1
Name Nuts: 'Vending Compliance'!$AF$1056
Name Nuts___Excempt_from_Fat_Limits__Assumes_low_added_fat: #REF!
Name Nuts_Seeds___Excempt_from_Fat_Limits__Assumes_low_added_fat: 'Vending Compliance'!$A$1056
Name Nutss: 'Vending Compliance'!$AF$1057
Name Sodium: Admin!$E$3:$E$5
Name Sodium2: Admin!$E$3:$E$4
Name Sugar: Admin!$B$4:$B$6
Name Sugar2: Admin!$B$3:$B$6
Name Top: 'Vending Compliance'!$AF$14
Name Trad: 'Vending Compliance'!$AF$13
Name Traditional_Vending_Snacks: 'Vending Compliance'!$A$13
Name Traditional_Vending_Snacks___Return_to_the_Top: 'Vending Compliance'!$A$6
Name Trail: 'Vending Compliance'!$AF$1106
Name Trail_Mixes___Excempt_from_Fat_and_Sugar_Limits__Assumes_low_added_fat_and_sugar: 'Vending Compliance'!$A$1105
Name Trail_Mixes___Excempt_from_Fat_and_Sugar_Limits__Assumes_low_added_sugar_and_salt: #REF!
Name Trans: Admin!$D$3:$D$4
Name VendingCri: 'Vending Compliance'!$D$3:$I$4

Sheet Vending Compliance
A1: Vending Product Compliance Calculator | D1: Input Your Vending Policy Criteria
D2: Total Calories | E2: Sugar | F2: Total Fat | G2: Trans Fat | H2: Sat. Fat | I2: Sodium
C3: Metric | D3: Calories | E3: Grams | F3: Grams | H3: Grams
A4: Navigation Links | C4: Value | D4: 200 | E4: 10 | F4: 7 | H4: 2
A5: Input Your Vending Policy Criteria | D5: All compliance calculations are based on per package vending policies, not per serving.
A6: Traditional Vending Snacks & Return to the Top
A7: Add Your Own Traditional Vending Snacks
A8: Fruit/Yogurt Exemptions
A9: Nut/Seed Exemptions
A10: Trail Mix Exemptions
G11: Per Serving | N11: Per Package | X11: Policy Standards
A12: Compliance | B12: Manufacturer/Brand | C12: Product | D12: Package Size (oz) | E12: Package Size (g) | F12: Servings per Package | G12: Total Calories | H12: Total Fat (g) | I12: Total Fat (kcal) | J12: Sat Fat (g) | K12: Trans Fat (g) | L12: Sodium (mg) | M12: Sugar (g) | N12: Total Calories Per Package | O12: Total Fat (g) Per Package | P12: Total Fat (% Calories) Per Package | Q12: Sat Fat (g) Per Package | R12: Sat Fat (% Calories) Per Package | S12: Trans Fat (g) Per Package | T12: Sodium (mg) Per Package | U12: Sugar (g) Per Package | V12: Sugar (% Calories) Per Package | W12: Sugar (% Weight) Per Package | X12: Kcal | Y12: Fat | Z12: Trans Fat | AA12: Saturated Fat | AB12: Sodium | AC12: Sugar | AD12: Food Type 1=general snack 2=fruit/yogurt 3=nut/seed 4=trail mix
A13: Traditional Vending Snacks
A14: Click Arrow to Sort Compliance | B14: Manufacturer/Brand | C14: Product | D14: Package Size (oz) | E14: Package Size (g) | F14: Servings per Package | G14: Total Calories | H14: Total Fat (g) | I14: Total Fat (kcal) | J14: Sat Fat (g) | K14: Trans Fat (g) | L14: Sodium (mg) | M14: Sugar (g) | N14: Total Calories Per Package | O14: Total Fat (g) Per Package | P14: Total Fat (% Calories) Per Package | Q14: Sat Fat (g) Per Package | R14: Sat Fat (% Calories) Per Package | S14: Trans Fat (g) Per Package | T14: Sodium (mg) Per Package | U14: Sugar (g) Per Package | V14: Sugar (% Calories) Per Package | W14: Sugar (% Weight) Per Package | X14: Kcal | Y14: Fat | Z14: Trans Fat | AA14: Saturated Fat | AB14: Sodium | AC14: Sugar | AD14: Food Type 1=general snack 2=fruit/yogurt 3=nut/seed 4=trail mix
A15: =IF(AND((AC15<=$E$4),(AB15<=$I$4),(AA15<=$H$4),(Z15<=$G$4),(Y15<=$F$4),(X15<=$D$4)),"Compliant","Non-Compliant") -> Non-Compliant | B15: Austin | C15: Zoo Animal Crackers | D15: 2 | E15: 56 | F15: 1 | G15: 230 | H15: 3.5 | I15: 30 | J15: 0.5 | K15: 0 | L15: 200 | M15: 13 | N15: =F15*G15 -> 230 | O15: =F15*H15 -> 3.5 | P15: =(I15*F15)/N15 -> 0.13043478 | Q15: =F15*J15 -> 0.5 | R15: =(Q15*9)/N15 -> 0.019565217 | S15: =F15*K15 -> 0 | T15: =L15*F15 -> 200 | U15: =M15*F15 -> 13 | V15: =(U15*4)/N15 -> 0.22608696 | W15: =U15/E15 -> 0.23214286 | X15: =IF($D$3="Calories",N15,"") -> 230 | Y15: =IF($F$3="Grams",O15,IF($F$3="% Calories",P15,"")) -> 3.5 | Z15: =IF($G$3="Grams",K15,"") | AA15: =IF($H$3="Grams",Q15,IF($H$3="% Calories",R15,"")) -> 0.5 | AB15: =IF($I$3="Milligrams",T15,"") | AC15: =IF($E$3="Grams",U15, IF($E$3="% Calories", V15, IF($E$3="% Weight",W15, ""))) -> 13 | AD15: 1
A16: =IF(AND((AC16<=$E$4),(AB16<=$I$4),(AA16<=$H$4),(Z16<=$G$4),(Y16<=$F$4),(X16<=$D$4)),"Compliant","Non-Compliant") -> Non-Compliant | B16: Austin's | C16: Grilled Cheese Flavored Sandwich Crackers | E16: 39 | F16: 1 | G16: 190 | H16: 9 | I16: 80 | J16: 2.5 | K16: 0 | L16: 350 | M16: 5 | N16: =F16*G16 -> 190 | O16: =F16*H16 -> 9 | P16: =(I16*F16)/N16 -> 0.42105263 | Q16: =F16*J16 -> 2.5 | R16: =(Q16*9)/N16 -> 0.11842105 | S16: =F16*K16 -> 0 | T16: =L16*F16 -> 350 | U16: =M16*F16 -> 5 | V16: =(U16*4)/N16 -> 0.10526316 | W16: =U16/E16 -> 0.12820513 | X16: =IF($D$3="Calories",N16,"") -> 190 | Y16: =IF($F$3="Grams",O16,IF($F$3="% Calories",P16,"")) -> 9 | Z16: =IF($G$3="Grams",K16,"") | AA16: =IF($H$3="Grams",Q16,IF($H$3="% Calories",R16,"")) -> 2.5 | AB16: =IF($I$3="Milligrams",T16,"") | AC16: =IF($E$3="Grams",U16, IF($E$3="% Calories", V16, IF($E$3="% Weight",W16, ""))) -> 5 | AD16: 1
A17: =IF(AND((AC17<=$E$4),(AB17<=$I$4),(AA17<=$H$4),(Z17<=$G$4),(Y17<=$F$4),(X17<=$D$4)),"Compliant","Non-Compliant") -> Non-Compliant | B17: Austin's | C17: Pepper Jack Sandwich Crackers | D17: 1.38 | E17: 39 | F17: 1 | G17: 190 | H17: 9 | I17: 80 | J17: 2.5 | K17: 0 | L17: 390 | M17: 6 | N17: =F17*G17 -> 190 | O17: =F17*H17 -> 9 | P17: =(I17*F17)/N17 -> 0.42105263 | Q17: =F17*J17 -> 2.5 | R17: =(Q17*9)/N17 -> 0.11842105 | S17: =F17*K17 -> 0 | T17: =L17*F17 -> 390 | U17: =M17*F17 -> 6 | V17: =(U17*4)/N17 -> 0.12631579 | W17: =U17/E17 -> 0.15384615 | X17: =IF($D$3="Calories",N17,"") -> 190 | Y17: =IF($F$3="Grams",O17,IF($F$3="% Calories",P17,"")) -> 9 | Z17: =IF($G$3="Grams",K17,"") | AA17: =IF($H$3="Grams",Q17,IF($H$3="% Calories",R17,"")) -> 2.5 | AB17: =IF($I$3="Milligrams",T17,"") | AC17: =IF($E$3="Grams",U17, IF($E$3="% Calories", V17, IF($E$3="% Weight",W17, ""))) -> 6 | AD17: 1
A18: =IF(AND((AC18<=$E$4),(AB18<=$I$4),(AA18<=$H$4),(Z18<=$G$4),(Y18<=$F$4),(X18<=$D$4)),"Compliant","Non-Compliant") -> Non-Compliant | B18: Back to Nature | C18: Chocolate Chunk Cookies | D18: 1.25 | E18: 35 | F18: =E18/26 -> 1.3461538 | G18: 130 | H18: 6 | I18: 50 | J18: 1.5 | K18: 0 | L18: 70 | M18: 9 | N18: =F18*G18 -> 175 | O18: =F18*H18 -> 8.0769231 | P18: =(I18*F18)/N18 -> 0.38461538 | Q18: =F18*J18 -> 2.0192308 | R18: =(Q18*9)/N18 -> 0.10384615 | S18: =F18*K18 -> 0 | T18: =L18*F18 -> 94.230769 | U18: =M18*F18 -> 12.115385 | V18: =(U18*4)/N18 -> 0.27692308 | W18: =U18/E18 -> 0.34615385 | X18: =IF($D$3="Calories",N18,"") -> 175 | Y18: =IF($F$3="Grams",O18,IF($F$3="% Calories",P18,"")) -> 8.0769231 | Z18: =IF($G$3="Grams",K18,"") | AA18: =IF($H$3="Grams",Q18,IF($H$3="% Calories",R18,"")) -> 2.0192308 | AB18: =IF($I$3="Milligrams",T18,"") | AC18: =IF($E$3="Grams",U18, IF($E$3="% Calories", V18, IF($E$3="% Weight",W18, ""))) -> 12.115385 | AD18: 1
A19: =IF(AND((AC19<=$E$4),(AB19<=$I$4),(AA19<=$H$4),(Z19<=$G$4),(Y19<=$F$4),(X19<=$D$4)),"Compliant","Non-Compliant") -> Compliant | B19: Back to Nature | C19: Honey Graham Sticks | D19: 1 | E19: 28 | F19: =E19/31 -> 0.90322581 | G19: 130 | H19: 3 | I19: 25 | J19: 0 | K19: 0 | L19: 170 | M19: 9 | N19: =F19*G19 -> 117.41935 | O19: =F19*H19 -> 2.7096774 | P19: =(I19*F19)/N19 -> 0.19230769 | Q19: =F19*J19 -> 0 | R19: =(Q19*9)/N19 -> 0 | S19: =F19*K19 -> 0 | T19: =L19*F19 -> 153.54839 | U19: =M19*F19 -> 8.1290323 | V19: =(U19*4)/N19 -> 0.27692308 | W19: =U19/E19 -> 0.29032258 | X19: =IF($D$3="Calories",N19,"") -> 117.41935 | Y19: =IF($F$3="Grams",O19,IF($F$3="% Calories",P19,"")) -> 2.7096774 | Z19: =IF($G$3="Grams",K19,"") | AA19: =IF($H$3="Grams",Q19,IF($H$3="% Calories",R19,"")) -> 0 | AB19: =IF($I$3="Milligrams",T19,"") | AC19: =IF($E$3="Grams",U19, IF($E$3="% Calories", V19, IF($E$3="% Weight",W19, ""))) -> 8.1290323 | AD19: 1
A20: =IF(AND((AC20<=$E$4),(AB20<=$I$4),(AA20<=$H$4),(Z20<=$G$4),(Y20<=$F$4),(X20<=$D$4)),"Compliant","Non-Compliant") -> Compliant | B20: Back to Nature (Kraft) | C20: Honey Graham Stick Cookies | D20: 1 | E20: 28 | F20: 1 | G20: 120 | H20: 2.5 | I20: 22 | J20: 0 | K20: 0 | L20: 150 | M20: 10 | N20: =F20*G20 -> 120 | O20: =F20*H20 -> 2.5 | P20: =(I20*F20)/N20 -> 0.18333333 | Q20: =F20*J20 -> 0 | R20: =(Q20*9)/N20 -> 0 | S20: =F20*K20 -> 0 | T20: =L20*F20 -> 150 | U20: =M20*F20 -> 10 | V20: =(U20*4)/N20 -> 0.33333333 | W20: =U20/E20 -> 0.35714286 | X20: =IF($D$3="Calories",N20,"") -> 120 | Y20: =IF($F$3="Grams",O20,IF($F$3="% Calories",P20,"")) -> 2.5 | Z20: =IF($G$3="Grams",K20,"") | AA20: =IF($H$3="Grams",Q20,IF($H$3="% Calories",R20,"")) -> 0 | AB20: =IF($I$3="Milligrams",T20,"") | AC20: =IF($E$3="Grams",U20, IF($E$3="% Calories", V20, IF($E$3="% Weight",W20, ""))) -> 10 | AD20: 1
A21: =IF(AND((AC21<=$E$4),(AB21<=$I$4),(AA21<=$H$4),(Z21<=$G$4),(Y21<=$F$4),(X21<=$D$4)),"Compliant","Non-Compliant") -> Non-Compliant | B21: Biscomerica | C21: Basil's Low Fat Animal Snackers | D21: 2 | E21: 57 | F21: 1 | G21: 194 | H21: 4 | I21: 40 | J21: 1 | K21: 0 | L21: 100 | M21: 14 | N21: =F21*G21 -> 194 | O21: =F21*H21 -> 4 | P21: =(I21*F21)/N21 -> 0.20618557 | Q21: =F21*J21 -> 1 | R21: =(Q21*9)/N21 -> 0.046391753 | S21: =F21*K21 -> 0 | T21: =L21*F21 -> 100 | U21: =M21*F21 -> 14 | V21: =(U21*4)/N21 -> 0.28865979 | W21: =U21/E21 -> 0.24561404 | X21: =IF($D$3="Calories",N21,"") -> 194 | Y21: =IF($F$3="Grams",O21,IF($F$3="% Calories",P21,"")) -> 4 | Z21: =IF($G$3="Grams",K21,"") | AA21: =IF($H$3="Grams",Q21,IF($H$3="% Calories",R21,"")) -> 1 | AB21: =IF($I$3="Milligrams",T21,"") | AC21: =IF($E$3="Grams",U21, IF($E$3="% Calories", V21, IF($E$3="% Weight",W21, ""))) -> 14 | AD21: 1
A22: =IF(AND((AC22<=$E$4),(AB22<=$I$4),(AA22<=$H$4),(Z22<=$G$4),(Y22<=$F$4),(X22<=$D$4)),"Compliant","Non-Compliant") -> Non-Compliant | B22: Biscomerica | C22: Basil's Mini Bites Chocolate Chip | D22: 1.5 | E22: 43 | F22: 1 | G22: 160 | H22: 3.5 | I22: 35 | J22: 1.5 | K22: 0 | L22: 50 | M22: 14 | N22: =F22*G22 -> 160 | O22: =F22*H22 -> 3.5 | P22: =(I22*F22)/N22 -> 0.21875 | Q22: =F22*J22 -> 1.5 | R22: =(Q22*9)/N22 -> 0.084375 | S22: =F22*K22 -> 0 | T22: =L22*F22 -> 50 | U22: =M22*F22 -> 14 | V22: =(U22*4)/N22 -> 0.35 | W22: =U22/E22 -> 0.3255814 | X22: =IF($D$3="Calories",N22,"") -> 160 | Y22: =IF($F$3="Grams",O22,IF($F$3="% Calories",P22,"")) -> 3.5 | Z22: =IF($G$3="Grams",K22,"") | AA22: =IF($H$3="Grams",Q22,IF($H$3="% Calories",R22,"")) -> 1.5 | AB22: =IF($I$3="Milligrams",T22,"") | AC22: =IF($E$3="Grams",U22, IF($E$3="% Calories", V22, IF($E$3="% Weight",W22, ""))) -> 14 | AD22: 1
A23: =IF(AND((AC23<=$E$4),(AB23<=$I$4),(AA23<=$H$4),(Z23<=$G$4),(Y23<=$F$4),(X23<=$D$4)),"Compliant","Non-Compliant") -> Non-Compliant | B23: CLIF | C23: CLIF Luna Bar - Choc Peppermint Stick | D23: 1.69 | E23: 48 | F23: 1 | G23: 180 | H23: 5 | I23: 45 | J23: 2.5 | K23: 0 | L23: 120 | M23: 12 | N23: =F23*G23 -> 180 | O23: =F23*H23 -> 5 | P23: =(I23*F23)/N23 -> 0.25 | Q23: =F23*J23 -> 2.5 | R23: =(Q23*9)/N23 -> 0.125 | S23: =F23*K23 -> 0 | T23: =L23*F23 -> 120 | U23: =M23*F23 -> 12 | V23: =(U23*4)/N23 -> 0.26666667 | W23: =U23/E23 -> 0.25 | X23: =IF($D$3="Calories",N23,"") -> 180 | Y23: =IF($F$3="Grams",O23,IF($F$3="% Calories",P23,"")) -> 5 | Z23: =IF($G$3="Grams",K23,"") | AA23: =IF($H$3="Grams",Q23,IF($H$3="% Calories",R23,"")) -> 2.5 | AB23: =IF($I$3="Milligrams",T23,"") | AC23: =IF($E$3="Grams",U23, IF($E$3="% Calories", V23, IF($E$3="% Weight",W23, ""))) -> 12 | AD23: 1
A24: =IF(AND((AC24<=$E$4),(AB24<=$I$4),(AA24<=$H$4),(Z24<=$G$4),(Y24<=$F$4),(X24<=$D$4)),"Compliant","Non-Compliant") -> Non-Compliant | B24: CLIF | C24: CLIF Luna Bar - Lemon Zest | D24: 1.69 | E24: 48 | F24: 1 | G24: 180 | H24: 5 | I24: 45 | J24: 2 | K24: 0 | L24: 115 | M24: 13 | N24: =F24*G24 -> 180 | O24: =F24*H24 -> 5 | P24: =(I24*F24)/N24 -> 0.25 | Q24: =F24*J24 -> 2 | R24: =(Q24*9)/N24 -> 0.1 | S24: =F24*K24 -> 0 | T24: =L24*F24 -> 115 | U24: =M24*F24 -> 13 | V24: =(U24*4)/N24 -> 0.28888889 | W24: =U24/E24 -> 0.27083333 | X24: =IF($D$3="Calories",N24,"") -> 180 | Y24: =IF($F$3="Grams",O24,IF($F$3="% Calories",P24,"")) -> 5 | Z24: =IF($G$3="Grams",K24,"") | AA24: =IF($H$3="Grams",Q24,IF($H$3="% Calories",R24,"")) -> 2 | AB24: =IF($I$3="Milligrams",T24,"") | AC24: =IF($E$3="Grams",U24, IF($E$3="% Calories", V24, IF($E$3="% Weight",W24, ""))) -> 13 | AD24: 1
A25: =IF(AND((AC25<=$E$4),(AB25<=$I$4),(AA25<=$H$4),(Z25<=$G$4),(Y25<=$F$4),(X25<=$D$4)),"Compliant","Non-Compliant") -> Non-Compliant | B25: CLIF | C25: CLIF Luna Bar - Nutz over Chocolate | D25: 1.69 | E25: 48 | F25: 1 | G25: 180 | H25: 6 | I25: 60 | J25: 2.5 | K25: 0 | L25: 190 | M25: 10 | N25: =F25*G25 -> 180 | O25: =F25*H25 -> 6 | P25: =(I25*F25)/N25 -> 0.33333333 | Q25: =F25*J25 -> 2.5 | R25: =(Q25*9)/N25 -> 0.125 | S25: =F25*K25 -> 0 | T25: =L25*F25 -> 190 | U25: =M25*F25 -> 10 | V25: =(U25*4)/N25 -> 0.22222222 | W25: =U25/E25 -> 0.20833333 | X25: =IF($D$3="Calories",N25,"") -> 180 | Y25: =IF($F$3="Grams",O25,IF($F$3="% Calories",P25,"")) -> 6 | Z25: =IF($G$3="Grams",K25,"") | AA25: =IF($H$3="Grams",Q25,IF($H$3="% Calories",R25,"")) -> 2.5 | AB25: =IF($I$3="Milligrams",T25,"") | AC25: =IF($E$3="Grams",U25, IF($E$3="% Calories", V25, IF($E$3="% Weight",W25, ""))) -> 10 | AD25: 1
A26: =IF(AND((AC26<=$E$4),(AB26<=$I$4),(AA26<=$H$4),(Z26<=$G$4),(Y26<=$F$4),(X26<=$D$4)),"Compliant","Non-Compliant") -> Non-Compliant | B26: CLIF | C26: CLIF Luna Bar - White Choc Macadamia | D26: 1.69 | E26: 48 | F26: 1 | G26: 190 | H26: 7 | I26: 60 | J26: 2.5 | K26: 0 | L26: 210 | M26: 11 | N26: =F26*G26 -> 190 | O26: =F26*H26 -> 7 | P26: =(I26*F26)/N26 -> 0.31578947 | Q26: =F26*J26 -> 2.5 | R26: =(Q26*9)/N26 -> 0.11842105 | S26: =F26*K26 -> 0 | T26: =L26*F26 -> 210 | U26: =M26*F26 -> 11 | V26: =(U26*4)/N26 -> 0.23157895 | W26: =U26/E26 -> 0.22916667 | X26: =IF($D$3="Calories",N26,"") -> 190 | Y26: =IF($F$3="Grams",O26,IF($F$3="% Calories",P26,"")) -> 7 | Z26: =IF($G$3="Grams",K26,"") | AA26: =IF($H$3="Grams",Q26,IF($H$3="% Calories",R26,"")) -> 2.5 | AB26: =IF($I$3="Milligrams",T26,"") | AC26: =IF($E$3="Grams",U26, IF($E$3="% Calories", V26, IF($E$3="% Weight",W26, ""))) -> 11 | AD26: 1
A27: =IF(AND((AC27<=$E$4),(AB27<=$I$4),(AA27<=$H$4),(Z27<=$G$4),(Y27<=$F$4),(X27<=$D$4)),"Compliant","Non-Compliant") -> Non-Compliant | B27: CLIF | C27: CLIF Mojo Mountain Mix | D27: 1.59 | E27: 45 | F27: 1 | G27: 190 | H27: 9 | I27: 80 | J27: 1.5 | K27: 0 | L27: 200 | M27: 12 | N27: =F27*G27 -> 190 | O27: =F27*H27 -> 9 | P27: =(I27*F27)/N27 -> 0.42105263 | Q27: =F27*J27 -> 1.5 | R27: =(Q27*9)/N27 -> 0.071052632 | S27: =F27*K27 -> 0 | T27: =L27*F27 -> 200 | U27: =M27*F27 -> 12 | V27: =(U27*4)/N27 -> 0.25263158 | W27: =U27/E27 -> 0.26666667 | X27: =IF($D$3="Calories",N27,"") -> 190 | Y27: =IF($F$3="Grams",O27,IF($F$3="% Calories",P27,"")) -> 9 | Z27: =IF($G$3="Grams",K27,"") | AA27: =IF($H$3="Grams",Q27,IF($H$3="% Calories",R27,"")) -> 1.5 | AB27: =IF($I$3="Milligrams",T27,"") | AC27: =IF($E$3="Grams",U27, IF($E$3="% Calories", V27, IF($E$3="% Weight",W27, ""))) -> 12 | AD27: 1
A28: =IF(AND((AC28<=$E$4),(AB28<=$I$4),(AA28<=$H$4),(Z28<=$G$4),(Y28<=$F$4),(X28<=$D$4)),"Compliant","Non-Compliant") -> Non-Compliant | B28: CLIF | C28: CLIF Mojo Peanut Butter Pretzel | D28: 1.59 | E28: 45 | F28: 1 | G28: 190 | H28: 9 | I28: 80 | J28: 2 | K28: 0 | L28: 220 | M28: 9 | N28: =F28*G28 -> 190 | O28: =F28*H28 -> 9 | P28: =(I28*F28)/N28 -> 0.42105263 | Q28: =F28*J28 -> 2 | R28: =(Q28*9)/N28 -> 0.094736842 | S28: =F28*K28 -> 0 | T28: =L28*F28 -> 220 | U28: =M28*F28 -> 9 | V28: =(U28*4)/N28 -> 0.18947368 | W28: =U28/E28 -> 0.2 | X28: =IF($D$3="Calories",N28,"") -> 190 | Y28: =IF($F$3="Grams",O28,IF($F$3="% Calories",P28,"")) -> 9 | Z28: =IF($G$3="Grams",K28,"") | AA28: =IF($H$3="Grams",Q28,IF($H$3="% Calories",R28,"")) -> 2 | AB28: =IF($I$3="Milligrams",T28,"") | AC28: =IF($E$3="Grams",U28, IF($E$3="% Calories", V28, IF($E$3="% Weight",W28, ""))) -> 9 | AD28: 1
A29: =IF(AND((AC29<=$E$4),(AB29<=$I$4),(AA29<=$H$4),(Z29<=$G$4),(Y29<=$F$4),(X29<=$D$4)),"Compliant","Non-Compliant") -> Compliant | B29: CLIF | C29: CLIF Z Bar Chocolate Brownie - #2 | D29: 1.27 | E29: 36 | F29: 1 | G29: 120 | H29: 3.5 | I29: 30 | J29: 1 | K29: 0 | L29: 125 | M29: 10 | N29: =F29*G29 -> 120 | O29: =F29*H29 -> 3.5 | P29: =(I29*F29)/N29 -> 0.25 | Q29: =F29*J29 -> 1 | R29: =(Q29*9)/N29 -> 0.075 | S29: =F29*K29 -> 0 | T29: =L29*F29 -> 125 | U29: =M29*F29 -> 10 | V29: =(U29*4)/N29 -> 0.33333333 | W29: =U29/E29 -> 0.27777778 | X29: =IF($D$3="Calories",N29,"") -> 120 | Y29: =IF($F$3="Grams",O29,IF($F$3="% Calories",P29,"")) -> 3.5 | Z29: =IF($G$3="Grams",K29,"") | AA29: =IF($H$3="Grams",Q29,IF($H$3="% Calories",R29,"")) -> 1 | AB29: =IF($I$3="Milligrams",T29,"") | AC29: =IF($E$3="Grams",U29, IF($E$3="% Calories", V29, IF($E$3="% Weight",W29, ""))) -> 10 | AD29: 1
A30: =IF(AND((AC30<=$E$4),(AB30<=$I$4),(AA30<=$H$4),(Z30<=$G$4),(Y30<=$F$4),(X30<=$D$4)),"Compliant","Non-Compliant") -> Non-Compliant | B30: CLIF | C30: CLIF Z Bar Chocolate Chip (Ranked # 1 by manuf | D30: 1.27 | E30: 36 | F30: 1 | G30: 130 | H30: 4 | I30: 35 | J30: 1.5 | K30: 0 | L30: 100 | M30: 11 | N30: =F30*G30 -> 130 | O30: =F30*H30 -> 4 | P30: =(I30*F30)/N30 -> 0.26923077 | Q30: =F30*J30 -> 1.5 | R30: =(Q30*9)/N30 -> 0.10384615 | S30: =F30*K30 -> 0 | T30: =L30*F30 -> 100 | U30: =M30*F30 -> 11 | V30: =(U30*4)/N30 -> 0.33846154 | W30: =U30/E30 -> 0.30555556 | X30: =IF($D$3="Calories",N30,"") -> 130 | Y30: =IF($F$3="Grams",O30,IF($F$3="% Calories",P30,"")) -> 4 | Z30: =IF($G$3="Grams",K30,"") | AA30: =IF($H$3="Grams",Q30,IF($H$3="% Calories",R30,"")) -> 1.5 | AB30: =IF($I$3="Milligrams",T30,"") | AC30: =IF($E$3="Grams",U30, IF($E$3="% Calories", V30, IF($E$3="% Weight",W30, ""))) -> 11 | AD30: 1
A31: =IF(AND((AC31<=$E$4),(AB31<=$I$4),(AA31<=$H$4),(Z31<=$G$4),(Y31<=$F$4),(X31<=$D$4)),"Compliant","Non-Compliant") -> Compliant | B31: CLIF | C31: CLIF Z Bar Honey Graham - #3 | D31: 1.27 | E31: 36 | F31: 1 | G31: 130 | H31: 2 | I31: 25 | J31: 0.5 | K31: 0 | L31: 95 | M31: 10 | N31: =F31*G31 -> 130 | O31: =F31*H31 -> 2 | P31: =(I31*F31)/N31 -> 0.19230769 | Q31: =F31*J31 -> 0.5 | R31: =(Q31*9)/N31 -> 0.034615385 | S31: =F31*K31 -> 0 | T31: =L31*F31 -> 95 | U31: =M31*F31 -> 10 | V31: =(U31*4)/N31 -> 0.30769231 | W31: =U31/E31 -> 0.27777778 | X31: =IF($D$3="Calories",N31,"") -> 130 | Y31: =IF($F$3="Grams",O31,IF($F$3="% Calories",P31,"")) -> 2 | Z31: =IF($G$3="Grams",K31,"") | AA31: =IF($H$3="Grams",Q31,IF($H$3="% Calories",R31,"")) -> 0.5 | AB31: =IF($I$3="Milligrams",T31,"") | AC31: =IF($E$3="Grams",U31, IF($E$3="% Calories", V31, IF($E$3="% Weight",W31, ""))) -> 10 | AD31: 1
... A44: =IF(AND((AC44<=$E$4),(AB44<=$I$4),(AA44<=$H$4),(Z44<=$G$4),(Y44<=$F$4),(X44<=$D$4)),"Compliant","Non-Compliant") -> Non-Compliant | B44: Duchess | C44: Sugar Donuts | D44: 3 | E44: 85 | F44: 1 | G44: 370 | H44: 18 | I44: 160 | J44: 9 | K44: 0 | L44: 430 | M44: 26 | N44: =F44*G44 -> 370 | O44: =F44*H44 -> 18 | P44: =(I44*F44)/N44 -> 0.43243243 | Q44: =F44*J44 -> 9 | R44: =(Q44*9)/N44 -> 0.21891892 | S44: =F44*K44 -> 0 | T44: =L44*F44 -> 430 | U44: =M44*F44 -> 26 | V44: =(U44*4)/N44 -> 0.28108108 | W44: =U44/E44 -> 0.30588235 | X44: =IF($D$3="Calories",N44,"") -> 370 | Y44: =IF($F$3="Grams",O44,IF($F$3="% Calories",P44,"")) -> 18 | Z44: =IF($G$3="Grams",K44,"") | AA44: =IF($H$3="Grams",Q44,IF($H$3="% Calories",R44,"")) -> 9 | AB44: =IF($I$3="Milligrams",T44,"") | AC44: =IF($E$3="Grams",U44, IF($E$3="% Calories", V44, IF($E$3="% Weight",W44, ""))) -> 26 | AD44: 1
A45: =IF(AND((AC45<=$E$4),(AB45<=$I$4),(AA45<=$H$4),(Z45<=$G$4),(Y45<=$F$4),(X45<=$D$4)),"Compliant","Non-Compliant") -> Non-Compliant | B45: Evans Foods | C45: Mac's Bar-B-Q Pork Skins | D45: 1 | E45: 28.4 | F45: =E45/14 -> 2.0285714 | G45: 80 | H45: 5 | I45: 45 | J45: 1.5 | K45: 0 | L45: 330 | M45: 0 | N45: =F45*G45 -> 162.28571 | O45: =F45*H45 -> 10.142857 | P45: =(I45*F45)/N45 -> 0.5625 | Q45: =F45*J45 -> 3.0428571 | R45: =(Q45*9)/N45 -> 0.16875 | S45: =F45*K45 -> 0 | T45: =L45*F45 -> 669.42857 | U45: =M45*F45 -> 0 | V45: =(U45*4)/N45 -> 0 | W45: =U45/E45 -> 0 | X45: =IF($D$3="Calories",N45,"") -> 162.28571 | Y45: =IF($F$3="Grams",O45,IF($F$3="% Calories",P45,"")) -> 10.142857 | Z45: =IF($G$3="Grams",K45,"") | AA45: =IF($H$3="Grams",Q45,IF($H$3="% Calories",R45,"")) -> 3.0428571 | AB45: =IF($I$3="Milligrams",T45,"") | AC45: =IF($E$3="Grams",U45, IF($E$3="% Calories", V45, IF($E$3="% Weight",W45, ""))) -> 0 | AD45: 1
A46: =IF(AND((AC46<=$E$4),(AB46<=$I$4),(AA46<=$H$4),(Z46<=$G$4),(Y46<=$F$4),(X46<=$D$4)),"Compliant","Non-Compliant") -> Compliant | B46: Fiber One | C46: 90 Calorie Carmel Sea Salt Bar | D46: 0.89 | E46: 25 | F46: 1 | G46: 90 | H46: 2.5 | I46: 25 | J46: 1 | K46: 0 | L46: 115 | M46: 9 | N46: =F46*G46 -> 90 | O46: =F46*H46 -> 2.5 | P46: =(I46*F46)/N46 -> 0.27777778 | Q46: =F46*J46 -> 1 | R46: =(Q46*9)/N46 -> 0.1 | S46: =F46*K46 -> 0 | T46: =L46*F46 -> 115 | U46: =M46*F46 -> 9 | V46: =(U46*4)/N46 -> 0.4 | W46: =U46/E46 -> 0.36 | X46: =IF($D$3="Calories",N46,"") -> 90 | Y46: =IF($F$3="Grams",O46,IF($F$3="% Calories",P46,"")) -> 2.5 | Z46: =IF($G$3="Grams",K46,"") | AA46: =IF($H$3="Grams",Q46,IF($H$3="% Calories",R46,"")) -> 1 | AB46: =IF($I$3="Milligrams",T46,"") | AC46: =IF($E$3="Grams",U46, IF($E$3="% Calories", V46, IF($E$3="% Weight",W46, ""))) -> 9 | AD46: 1
A47: =IF(AND((AC47<=$E$4),(AB47<=$I$4),(AA47<=$H$4),(Z47<=$G$4),(Y47<=$F$4),(X47<=$D$4)),"Compliant","Non-Compliant") -> Compliant | B47: Fiber One | C47: 90 Calorie Chcolate Peanut Butter Brownie | D47: 0.89 | E47: 25 | F47: 1 | G47: 90 | H47: 3 | I47: 30 | J47: 1.5 | K47: 0 | L47: 110 | M47: 7 | N47: =F47*G47 -> 90 | O47: =F47*H47 -> 3 | P47: =(I47*F47)/N47 -> 0.33333333 | Q47: =F47*J47 -> 1.5 | R47: =(Q47*9)/N47 -> 0.15 | S47: =F47*K47 -> 0 | T47: =L47*F47 -> 110 | U47: =M47*F47 -> 7 | V47: =(U47*4)/N47 -> 0.31111111 | W47: =U47/E47 -> 0.28 | X47: =IF($D$3="Calories",N47,"") -> 90 | Y47: =IF($F$3="Grams",O47,IF($F$3="% Calories",P47,"")) -> 3 | Z47: =IF($G$3="Grams",K47,"") | AA47: =IF($H$3="Grams",Q47,IF($H$3="% Calories",R47,"")) -> 1.5 | AB47: =IF($I$3="Milligrams",T47,"") | AC47: =IF($E$3="Grams",U47, IF($E$3="% Calories", V47, IF($E$3="% Weight",W47, ""))) -> 7 | AD47: 1
A48: =IF(AND((AC48<=$E$4),(AB48<=$I$4),(AA48<=$H$4),(Z48<=$G$4),(Y48<=$F$4),(X48<=$D$4)),"Compliant","Non-Compliant") -> Compliant | B48: Fiber One | C48: 90 Calorie Chocolate Chip Cookie | D48: 0.89 | E48: 25 | F48: 1 | G48: 90 | H48: 3 | I48: 35 | J48: 1.5 | K48: 0 | L48: 90 | M48: 8 | N48: =F48*G48 -> 90 | O48: =F48*H48 -> 3 | P48: =(I48*F48)/N48 -> 0.38888889 | Q48: =F48*J48 -> 1.5 | R48: =(Q48*9)/N48 -> 0.15 | S48: =F48*K48 -> 0 | T48: =L48*F48 -> 90 | U48: =M48*F48 -> 8 | V48: =(U48*4)/N48 -> 0.35555556 | W48: =U48/E48 -> 0.32 | X48: =IF($D$3="Calories",N48,"") -> 90 | Y48: =IF($F$3="Grams",O48,IF($F$3="% Calories",P48,"")) -> 3 | Z48: =IF($G$3="Grams",K48,"") | AA48: =IF($H$3="Grams",Q48,IF($H$3="% Calories",R48,"")) -> 1.5 | AB48: =IF($I$3="Milligrams",T48,"") | AC48: =IF($E$3="Grams",U48, IF($E$3="% Calories", V48, IF($E$3="% Weight",W48, ""))) -> 8 | AD48: 1
A49: =IF(AND((AC49<=$E$4),(AB49<=$I$4),(AA49<=$H$4),(Z49<=$G$4),(Y49<=$F$4),(X49<=$D$4)),"Compliant","Non-Compliant") -> Compliant | B49: Fiber One | C49: 90 Calorie Chocolate Fudge Brownie | D49: 0.89 | E49: 25 | F49: 1 | G49: 90 | H49: 3 | I49: 25 | J49: 1.5 | K49: 0 | L49: 100 | M49: 8 | N49: =F49*G49 -> 90 | O49: =F49*H49 -> 3 | P49: =(I49*F49)/N49 -> 0.27777778 | Q49: =F49*J49 -> 1.5 | R49: =(Q49*9)/N49 -> 0.15 | S49: =F49*K49 -> 0 | T49: =L49*F49 -> 100 | U49: =M49*F49 -> 8 | V49: =(U49*4)/N49 -> 0.35555556 | W49: =U49/E49 -> 0.32 | X49: =IF($D$3="Calories",N49,"") -> 90 | Y49: =IF($F$3="Grams",O49,IF($F$3="% Calories",P49,"")) -> 3 | Z49: =IF($G$3="Grams",K49,"") | AA49: =IF($H$3="Grams",Q49,IF($H$3="% Calories",R49,"")) -> 1.5 | AB49: =IF($I$3="Milligrams",T49,"") | AC49: =IF($E$3="Grams",U49, IF($E$3="% Calories", V49, IF($E$3="% Weight",W49, ""))) -> 8 | AD49: 1
A50: =IF(AND((AC50<=$E$4),(AB50<=$I$4),(AA50<=$H$4),(Z50<=$G$4),(Y50<=$F$4),(X50<=$D$4)),"Compliant","Non-Compliant") -> Compliant | B50: Fiber One | C50: 90 Calorie Cinnamon Coffee Cake | D50: 0.89 | E50: 25 | F50: 1 | G50: 90 | H50: 3 | I50: 25 | J50: 1.5 | K50: 0 | L50: 85 | M50: 8 | N50: =F50*G50 -> 90 | O50: =F50*H50 -> 3 | P50: =(I50*F50)/N50 -> 0.27777778 | Q50: =F50*J50 -> 1.5 | R50: =(Q50*9)/N50 -> 0.15 | S50: =F50*K50 -> 0 | T50: =L50*F50 -> 85 | U50: =M50*F50 -> 8 | V50: =(U50*4)/N50 -> 0.35555556 | W50: =U50/E50 -> 0.32 | X50: =IF($D$3="Calories",N50,"") -> 90 | Y50: =IF($F$3="Grams",O50,IF($F$3="% Calories",P50,"")) -> 3 | Z50: =IF($G$3="Grams",K50,"") | AA50: =IF($H$3="Grams",Q50,IF($H$3="% Calories",R50,"")) -> 1.5 | AB50: =IF($I$3="Milligrams",T50,"") | AC50: =IF($E$3="Grams",U50, IF($E$3="% Calories", V50, IF($E$3="% Weight",W50, ""))) -> 8 | AD50: 1
A51: =IF(AND((AC51<=$E$4),(AB51<=$I$4),(AA51<=$H$4),(Z51<=$G$4),(Y51<=$F$4),(X51<=$D$4)),"Compliant","Non-Compliant") -> Compliant | B51: Fiber One | C51: 90 Calorie Lemon Bar | D51: 0.89 | E51: 25 | F51: 1 | G51: 90 | H51: 3 | I51: 30 | J51: 1.5 | K51: 0 | L51: 80 | M51: 8 | N51: =F51*G51 -> 90 | O51: =F51*H51 -> 3 | P51: =(I51*F51)/N51 -> 0.33333333 | Q51: =F51*J51 -> 1.5 | R51: =(Q51*9)/N51 -> 0.15 | S51: =F51*K51 -> 0 | T51: =L51*F51 -> 80 | U51: =M51*F51 -> 8 | V51: =(U51*4)/N51 -> 0.35555556 | W51: =U51/E51 -> 0.32 | X51: =IF($D$3="Calories",N51,"") -> 90 | Y51: =IF($F$3="Grams",O51,IF($F$3="% Calories",P51,"")) -> 3 | Z51: =IF($G$3="Grams",K51,"") | AA51: =IF($H$3="Grams",Q51,IF($H$3="% Calories",R51,"")) -> 1.5 | AB51: =IF($I$3="Milligrams",T51,"") | AC51: =IF($E$3="Grams",U51, IF($E$3="% Calories", V51, IF($E$3="% Weight",W51, ""))) -> 8 | AD51: 1
A52: =IF(AND((AC52<=$E$4),(AB52<=$I$4),(AA52<=$H$4),(Z52<=$G$4),(Y52<=$F$4),(X52<=$D$4)),"Compliant","Non-Compliant") -> Compliant | B52: Fiber One | C52: Chewy Bars - 90 Calorie - Chocolate | D52: 0.82 | E52: 23 | F52: 1 | G52: 90 | H52: 2 | I52: 20 | J52: 1 | K52: 0 | L52: 80 | M52: 5 | N52: =F52*G52 -> 90 | O52: =F52*H52 -> 2 | P52: =(I52*F52)/N52 -> 0.22222222 | Q52: =F52*J52 -> 1 | R52: =(Q52*9)/N52 -> 0.1 | S52: =F52*K52 -> 0 | T52: =L52*F52 -> 80 | U52: =M52*F52 -> 5 | V52: =(U52*4)/N52 -> 0.22222222 | W52: =U52/E52 -> 0.2173913 | X52: =IF($D$3="Calories",N52,"") -> 90 | Y52: =IF($F$3="Grams",O52,IF($F$3="% Calories",P52,"")) -> 2 | Z52: =IF($G$3="Grams",K52,"") | AA52: =IF($H$3="Grams",Q52,IF($H$3="% Calories",R52,"")) -> 1 | AB52: =IF($I$3="Milligrams",T52,"") | AC52: =IF($E$3="Grams",U52, IF($E$3="% Calories", V52, IF($E$3="% Weight",W52, ""))) -> 5 | AD52: 1
...

Sheet Admin
A1: Total Calories | B1: Sugar | C1: Fat/Sat | D1: Trans | E1: Sodium*
A2: Metric | B2: Metric | C2: Metric | E2: Metric
A4: Calories | B4: Grams | C4: Grams | D4: Grams | E4: Milligrams
B5: % Calories | C5: % Calories
B6: % Weight
