Workbook
Name Add: 'Vending Compliance'!$AF$342
Name Add_Your_Own: 'Vending Compliance'!$A$342
Name Add_Your_Own_Fruit_Yogurt: 'Vending Compliance'!$A$1016
Name Calories: Admin!$A$3:$A$4
Name Considered: Admin!#REF!
Name Fat: Admin!$C$3:$C$5
Name Fruit: 'Vending Compliance'!$AF$1002
Name Fruit_Yogurt: 'Vending Compliance'!$A$1002
Name Fruit_Yogurt___Excempt_from_Sugar_Limit__Assumes_low_added_sugar: #REF!
Name Input_Your_Vending_Policy: 'Vending Compliance'!$D$1
Name Nuts: 'Vending Compliance'!$AF$1056
Name Nuts___Excempt_from_Fat_Limits__Assumes_low_added_fat: #REF!
Name Nuts_Seeds___Excempt_from_Fat_Limits__Assumes_low_added_fat: 'Vending Compliance'!$A$1056
Name Nutss: 'Vending Compliance'!$AF$1057
Name Sodium: Admin!$E$3:$E$5
Name Sodium2: Admin!$E$3:$E$4
Name Sugar: Admin!$B$4:$B$6
Name Sugar2: Admin!$B$3:$B$6
Name Top: 'Vending Compliance'!$AF$14
Name Trad: 'Vending Compliance'!$AF$13
Name Traditional_Vending_Snacks: 'Vending Compliance'!$A$13
Name Traditional_Vending_Snacks___Return_to_the_Top: 'Vending Compliance'!$A$6
Name Trail: 'Vending Compliance'!$AF$1106
Name Trail_Mixes___Excempt_from_Fat_and_Sugar_Limits__Assumes_low_added_fat_and_sugar: 'Vending Compliance'!$A$1105
Name Trail_Mixes___Excempt_from_Fat_and_Sugar_Limits__Assumes_low_added_sugar_and_salt: #REF!
Name Trans: Admin!$D$3:$D$4
Name VendingCri: 'Vending Compliance'!$D$3:$I$4

Sheet Vending Compliance
A1: Vending Product Compliance Calculator | D1: Input Your Vending Policy Criteria
D2: Total Calories | E2: Sugar | F2: Total Fat | G2: Trans Fat | H2: Sat. Fat | I2: Sodium
C3: Metric | D3: Calories | E3: Grams | F3: Grams | H3: Grams
A4: Navigation Links | C4: Value | D4: 200 | E4: 10 | F4: 7 | H4: 2
A5: Input Your Vending Policy Criteria | D5: All compliance calculations are based on per package vending policies, not per serving.
A6: Traditional Vending Snacks & Return to the Top
A7: Add Your Own Traditional Vending Snacks
A8: Fruit/Yogurt Exemptions
A9: Nut/Seed Exemptions
A10: Trail Mix Exemptions
G11: Per Serving | N11: Per Package | X11: Policy Standards
A12: Compliance | B12: Manufacturer/Brand | C12: Product | D12: Package Size (oz) | E12: Package Size (g) | F12: Servings per Package | G12: Total Calories | H12: Total Fat (g) | I12: Total Fat (kcal) | J12: Sat Fat (g) | K12: Trans Fat (g) | L12: Sodium (mg) | M12: Sugar (g) | N12: Total Calories Per Package | O12: Total Fat (g) Per Package | P12: Total Fat (% Calories) Per Package | Q12: Sat Fat (g) Per Package | R12: Sat Fat (% Calories) Per Package | S12: Trans Fat (g) Per Package | T12: Sodium (mg) Per Package | U12: Sugar (g) Per Package | V12: Sugar (% Calories) Per Package | W12: Sugar (% Weight) Per Package | X12: Kcal | Y12: Fat | Z12: Trans Fat | AA12: Saturated Fat | AB12: Sodium | AC12: Sugar | AD12: Food Type 1=general snack 2=fruit/yogurt 3=nut/seed 4=trail mix
A13: Traditional Vending Snacks
A14: Click Arrow to Sort Compliance | B14: Manufacturer/Brand | C14: Product | D14: Package Size (oz) | E14: Package Size (g) | F14: Servings per Package | G14: Total Calories | H14: Total Fat (g) | I14: Total Fat (kcal) | J14: Sat Fat (g) | K14: Trans Fat (g) | L14: Sodium (mg) | M14: Sugar (g) | N14: Total Calories Per Package | O14: Total Fat (g) Per Package | P14: Total Fat (% Calories) Per Package | Q14: Sat Fat (g) Per Package | R14: Sat Fat (% Calories) Per Package | S14: Trans Fat (g) Per Package | T14: Sodium (mg) Per Package | U14: Sugar (g) Per Package | V14: Sugar (% Calories) Per Package | W14: Sugar (% Weight) Per Package | X14: Kcal | Y14: Fat | Z14: Trans Fat | AA14: Saturated Fat | AB14: Sodium | AC14: Sugar | AD14: Food Type 1=general snack 2=fruit/yogurt 3=nut/seed 4=trail mix
A15: =IF(AND((AC15<=$E$4),(AB15<=$I$4),(AA15<=$H$4),(Z15<=$G$4),(Y15<=$F$4),(X15<=$D$4)),"Compliant","Non-Compliant") -> Non-Compliant | B15: Austin | C15: Zoo Animal Crackers | D15: 2 | E15: 56 | F15: 1 | G15: 230 | H15: 3.5 | I15: 30 | J15: 0.5 | K15: 0 | L15: 200 | M15: 13 | N15: =F15*G15 -> 230 | O15: =F15*H15 -> 3.5 | P15: =(I15*F15)/N15 -> 0.13043478 | Q15: =F15*J15 -> 0.5 | R15: =(Q15*9)/N15 -> 0.019565217 | S15: =F15*K15 -> 0 | T15: =L15*F15 -> 200 | U15: =M15*F15 -> 13 | V15: =(U15*4)/N15 -> 0.22608696 | W15: =U15/E15 -> 0.23214286 | X15: =IF($D$3="Calories",N15,"") -> 230 | Y15: =IF($F$3="Grams",O15,IF($F$3="% Calories",P15,"")) -> 3.5 | Z15: =IF($G$3="Grams",K15,"") | AA15: =IF($H$3="Grams",Q15,IF($H$3="% Calories",R15,"")) -> 0.5 | AB15: =IF($I$3="Milligrams",T15,"") | AC15: =IF($E$3="Grams",U15, IF($E$3="% Calories", V15, IF($E$3="% Weight",W15, ""))) -> 13 | AD15: 1
A16: =IF(AND((AC16<=$E$4),(AB16<=$I$4),(AA16<=$H$4),(Z16<=$G$4),(Y16<=$F$4),(X16<=$D$4)),"Compliant","Non-Compliant") -> Non-Compliant | B16: Austin's | C16: Grilled Cheese Flavored Sandwich Crackers | E16: 39 | F16: 1 | G16: 190 | H16: 9 | I16: 80 | J16: 2.5 | K16: 0 | L16: 350 | M16: 5 | N16: =F16*G16 -> 190 | O16: =F16*H16 -> 9 | P16: =(I16*F16)/N16 -> 0.42105263 | Q16: =F16*J16 -> 2.5 | R16: =(Q16*9)/N16 -> 0.11842105 | S16: =F16*K16 -> 0 | T16: =L16*F16 -> 350 | U16: =M16*F16 -> 5 | V16: =(U16*4)/N16 -> 0.10526316 | W16: =U16/E16 -> 0.12820513 | X16: =IF($D$3="Calories",N16,"") -> 190 | Y16: =IF($F$3="Grams",O16,IF($F$3="% Calories",P16,"")) -> 9 | Z16: =IF($G$3="Grams",K16,"") | AA16: =IF($H$3="Grams",Q16,IF($H$3="% Calories",R16,"")) -> 2.5 | AB16: =IF($I$3="Milligrams",T16,"") | AC16: =IF($E$3="Grams",U16, IF($E$3="% Calories", V16, IF($E$3="% Weight",W16, ""))) -> 5 | AD16: 1
A17: =IF(AND((AC17<=$E$4),(AB17<=$I$4),(AA17<=$H$4),(Z17<=$G$4),(Y17<=$F$4),(X17<=$D$4)),"Compliant","Non-Compliant") -> Non-Compliant | B17: Austin's | C17: Pepper Jack Sandwich Crackers | D17: 1.38 | E17: 39 | F17: 1 | G17: 190 | H17: 9 | I17: 80 | J17: 2.5 | K17: 0 | L17: 390 | M17: 6 | N17: =F17*G17 -> 190 | O17: =F17*H17 -> 9 | P17: =(I17*F17)/N17 -> 0.42105263 | Q17: =F17*J17 -> 2.5 | R17: =(Q17*9)/N17 -> 0.11842105 | S17: =F17*K17 -> 0 | T17: =L17*F17 -> 390 | U17: =M17*F17 -> 6 | V17: =(U17*4)/N17 -> 0.12631579 | W17: =U17/E17 -> 0.15384615 | X17: =IF($D$3="Calories",N17,"") -> 190 | Y17: =IF($F$3="Grams",O17,IF($F$3="% Calories",P17,"")) -> 9 | Z17: =IF($G$3="Grams",K17,"") | AA17: =IF($H$3="Grams",Q17,IF($H$3="% Calories",R17,"")) -> 2.5 | AB17: =IF($I$3="Milligrams",T17,"") | AC17: =IF($E$3="Grams",U17, IF($E$3="% Calories", V17, IF($E$3="% Weight",W17, ""))) -> 6 | AD17: 1
A18: =IF(AND((AC18<=$E$4),(AB18<=$I$4),(AA18<=$H$4),(Z18<=$G$4),(Y18<=$F$4),(X18<=$D$4)),"Compliant","Non-Compliant") -> Non-Compliant | B18: Back to Nature | C18: Chocolate Chunk Cookies | D18: 1.25 | E18: 35 | F18: =E18/26 -> 1.3461538 | G18: 130 | H18: 6 | I18: 50 | J18: 1.5 | K18: 0 | L18: 70 | M18: 9 | N18: =F18*G18 -> 175 | O18: =F18*H18 -> 8.0769231 | P18: =(I18*F18)/N18 -> 0.38461538 | Q18: =F18*J18 -> 2.0192308 | R18: =(Q18*9)/N18 -> 0.10384615 | S18: =F18*K18 -> 0 | T18: =L18*F18 -> 94.230769 | U18: =M18*F18 -> 12.115385 | V18: =(U18*4)/N18 -> 0.27692308 | W18: =U18/E18 -> 0.34615385 | X18: =IF($D$3="Calories",N18,"") -> 175 | Y18: =IF($F$3="Grams",O18,IF($F$3="% Calories",P18,"")) -> 8.0769231 | Z18: =IF($G$3="Grams",K18,"") | AA18: =IF($H$3="Grams",Q18,IF($H$3="% Calories",R18,"")) -> 2.0192308 | AB18: =IF($I$3="Milligrams",T18,"") | AC18: =IF($E$3="Grams",U18, IF($E$3="% Calories", V18, IF($E$3="% Weight",W18, ""))) -> 12.115385 | AD18: 1
A19: =IF(AND((AC19<=$E$4),(AB19<=$I$4),(AA19<=$H$4),(Z19<=$G$4),(Y19<=$F$4),(X19<=$D$4)),"Compliant","Non-Compliant") -> Compliant | B19: Back to Nature | C19: Honey Graham Sticks | D19: 1 | E19: 28 | F19: =E19/31 -> 0.90322581 | G19: 130 | H19: 3 | I19: 25 | J19: 0 | K19: 0 | L19: 170 | M19: 9 | N19: =F19*G19 -> 117.41935 | O19: =F19*H19 -> 2.7096774 | P19: =(I19*F19)/N19 -> 0.19230769 | Q19: =F19*J19 -> 0 | R19: =(Q19*9)/N19 -> 0 | S19: =F19*K19 -> 0 | T19: =L19*F19 -> 153.54839 | U19: =M19*F19 -> 8.1290323 | V19: =(U19*4)/N19 -> 0.27692308 | W19: =U19/E19 -> 0.29032258 | X19: =IF($D$3="Calories",N19,"") -> 117.41935 | Y19: =IF($F$3="Grams",O19,IF($F$3="% Calories",P19,"")) -> 2.7096774 | Z19: =IF($G$3="Grams",K19,"") | AA19: =IF($H$3="Grams",Q19,IF($H$3="% Calories",R19,"")) -> 0 | AB19: =IF($I$3="Milligrams",T19,"") | AC19: =IF($E$3="Grams",U19, IF($E$3="% Calories", V19, IF($E$3="% Weight",W19, ""))) -> 8.1290323 | AD19: 1
A20: =IF(AND((AC20<=$E$4),(AB20<=$I$4),(AA20<=$H$4),(Z20<=$G$4),(Y20<=$F$4),(X20<=$D$4)),"Compliant","Non-Compliant") -> Compliant | B20: Back to Nature (Kraft) | C20: Honey Graham Stick Cookies | D20: 1 | E20: 28 | F20: 1 | G20: 120 | H20: 2.5 | I20: 22 | J20: 0 | K20: 0 | L20: 150 | M20: 10 | N20: =F20*G20 -> 120 | O20: =F20*H20 -> 2.5 | P20: =(I20*F20)/N20 -> 0.18333333 | Q20: =F20*J20 -> 0 | R20: =(Q20*9)/N20 -> 0 | S20: =F20*K20 -> 0 | T20: =L20*F20 -> 150 | U20: =M20*F20 -> 10 | V20: =(U20*4)/N20 -> 0.33333333 | W20: =U20/E20 -> 0.35714286 | X20: =IF($D$3="Calories",N20,"") -> 120 | Y20: =IF($F$3="Grams",O20,IF($F$3="% Calories",P20,"")) -> 2.5 | Z20: =IF($G$3="Grams",K20,"") | AA20: =IF($H$3="Grams",Q20,IF($H$3="% Calories",R20,"")) -> 0 | AB20: =IF($I$3="Milligrams",T20,"") | AC20: =IF($E$3="Grams",U20, IF($E$3="% Calories", V20, IF($E$3="% Weight",W20, ""))) -> 10 | AD20: 1
A21: =IF(AND((AC21<=$E$4),(AB21<=$I$4),(AA21<=$H$4),(Z21<=$G$4),(Y21<=$F$4),(X21<=$D$4)),"Compliant","Non-Compliant") -> Non-Compliant | B21: Biscomerica | C21: Basil's Low Fat Animal Snackers | D21: 2 | E21: 57 | F21: 1 | G21: 194 | H21: 4 | I21: 40 | J21: 1 | K21: 0 | L21: 100 | M21: 14 | N21: =F21*G21 -> 194 | O21: =F21*H21 -> 4 | P21: =(I21*F21)/N21 -> 0.20618557 | Q21: =F21*J21 -> 1 | R21: =(Q21*9)/N21 -> 0.046391753 | S21: =F21*K21 -> 0 | T21: =L21*F21 -> 100 | U21: =M21*F21 -> 14 | V21: =(U21*4)/N21 -> 0.28865979 | W21: =U21/E21 -> 0.24561404 | X21: =IF($D$3="Calories",N21,"") -> 194 | Y21: =IF($F$3="Grams",O21,IF($F$3="% Calories",P21,"")) -> 4 | Z21: =IF($G$3="Grams",K21,"") | AA21: =IF($H$3="Grams",Q21,IF($H$3="% Calories",R21,"")) -> 1 | AB21: =IF($I$3="Milligrams",T21,"") | AC21: =IF($E$3="Grams",U21, IF($E$3="% Calories", V21, IF($E$3="% Weight",W21, ""))) -> 14 | AD21: 1
A22: =IF(AND((AC22<=$E$4),(AB22<=$I$4),(AA22<=$H$4),(Z22<=$G$4),(Y22<=$F$4),(X22<=$D$4)),"Compliant","Non-Compliant") -> Non-Compliant | B22: Biscomerica | C22: Basil's Mini Bites Chocolate Chip | D22: 1.5 | E22: 43 | F22: 1 | G22: 160 | H22: 3.5 | I22: 35 | J22: 1.5 | K22: 0 | L22: 50 | M22: 14 | N22: =F22*G22 -> 160 | O22: =F22*H22 -> 3.5 | P22: =(I22*F22)/N22 -> 0.21875 | Q22: =F22*J22 -> 1.5 | R22: =(Q22*9)/N22 -> 0.084375 | S22: =F22*K22 -> 0 | T22: =L22*F22 -> 50 | U22: =M22*F22 -> 14 | V22: =(U22*4)/N22 -> 0.35 | W22: =U22/E22 -> 0.3255814 | X22: =IF($D$3="Calories",N22,"") -> 160 | Y22: =IF($F$3="Grams",O22,IF($F$3="% Calories",P22,"")) -> 3.5 | Z22: =IF($G$3="Grams",K22,"") | AA22: =IF($H$3="Grams",Q22,IF($H$3="% Calories",R22,"")) -> 1.5 | AB22: =IF($I$3="Milligrams",T22,"") | AC22: =IF($E$3="Grams",U22, IF($E$3="% Calories", V22, IF($E$3="% Weight",W22, ""))) -> 14 | AD22: 1
A23: =IF(AND((AC23<=$E$4),(AB23<=$I$4),(AA23<=$H$4),(Z23<=$G$4),(Y23<=$F$4),(X23<=$D$4)),"Compliant","Non-Compliant") -> Non-Compliant | B23: CLIF | C23: CLIF Luna Bar - Choc Peppermint Stick | D23: 1.69 | E23: 48 | F23: 1 | G23: 180 | H23: 5 | I23: 45 | J23: 2.5 | K23: 0 | L23: 120 | M23: 12 | N23: =F23*G23 -> 180 | O23: =F23*H23 -> 5 | P23: =(I23*F23)/N23 -> 0.25 | Q23: =F23*J23 -> 2.5 | R23: =(Q23*9)/N23 -> 0.125 | S23: =F23*K23 -> 0 | T23: =L23*F23 -> 120 | U23: =M23*F23 -> 12 | V23: =(U23*4)/N23 -> 0.26666667 | W23: =U23/E23 -> 0.25 | X23: =IF($D$3="Calories",N23,"") -> 180 | Y23: =IF($F$3="Grams",O23,IF($F$3="% Calories",P23,"")) -> 5 | Z23: =IF($G$3="Grams",K23,"") | AA23: =IF($H$3="Grams",Q23,IF($H$3="% Calories",R23,"")) -> 2.5 | AB23: =IF($I$3="Milligrams",T23,"") | AC23: =IF($E$3="Grams",U23, IF($E$3="% Calories", V23, IF($E$3="% Weight",W23, ""))) -> 12 | AD23: 1
A24: =IF(AND((AC24<=$E$4),(AB24<=$I$4),(AA24<=$H$4),(Z24<=$G$4),(Y24<=$F$4),(X24<=$D$4)),"Compliant","Non-Compliant") -> Non-Compliant | B24: CLIF | C24: CLIF Luna Bar - Lemon Zest | D24: 1.69 | E24: 48 | F24: 1 | G24: 180 | H24: 5 | I24: 45 | J24: 2 | K24: 0 | L24: 115 | M24: 13 | N24: =F24*G24 -> 180 | O24: =F24*H24 -> 5 | P24: =(I24*F24)/N24 -> 0.25 | Q24: =F24*J24 -> 2 | R24: =(Q24*9)/N24 -> 0.1 | S24: =F24*K24 -> 0 | T24: =L24*F24 -> 115 | U24: =M24*F24 -> 13 | V24: =(U24*4)/N24 -> 0.28888889 | W24: =U24/E24 -> 0.27083333 | X24: =IF($D$3="Calories",N24,"") -> 180 | Y24: =IF($F$3="Grams",O24,IF($F$3="% Calories",P24,"")) -> 5 | Z24: =IF($G$3="Grams",K24,"") | AA24: =IF($H$3="Grams",Q24,IF($H$3="% Calories",R24,"")) -> 2 | AB24: =IF($I$3="Milligrams",T24,"") | AC24: =IF($E$3="Grams",U24, IF($E$3="% Calories", V24, IF($E$3="% Weight",W24, ""))) -> 13 | AD24: 1
A25: =IF(AND((AC25<=$E$4),(AB25<=$I$4),(AA25<=$H$4),(Z25<=$G$4),(Y25<=$F$4),(X25<=$D$4)),"Compliant","Non-Compliant") -> Non-Compliant | B25: CLIF | C25: CLIF Luna Bar - Nutz over Chocolate | D25: 1.69 | E25: 48 | F25: 1 | G25: 180 | H25: 6 | I25: 60 | J25: 2.5 | K25: 0 | L25: 190 | M25: 10 | N25: =F25*G25 -> 180 | O25: =F25*H25 -> 6 | P25: =(I25*F25)/N25 -> 0.33333333 | Q25: =F25*J25 -> 2.5 | R25: =(Q25*9)/N25 -> 0.125 | S25: =F25*K25 -> 0 | T25: =L25*F25 -> 190 | U25: =M25*F25 -> 10 | V25: =(U25*4)/N25 -> 0.22222222 | W25: =U25/E25 -> 0.20833333 | X25: =IF($D$3="Calories",N25,"") -> 180 | Y25: =IF($F$3="Grams",O25,IF($F$3="% Calories",P25,"")) -> 6 | Z25: =IF($G$3="Grams",K25,"") | AA25: =IF($H$3="Grams",Q25,IF($H$3="% Calories",R25,"")) -> 2.5 | AB25: =IF($I$3="Milligrams",T25,"") | AC25: =IF($E$3="Grams",U25, IF($E$3="% Calories", V25, IF($E$3="% Weight",W25, ""))) -> 10 | AD25: 1
A26: =IF(AND((AC26<=$E$4),(AB26<=$I$4),(AA26<=$H$4),(Z26<=$G$4),(Y26<=$F$4),(X26<=$D$4)),"Compliant","Non-Compliant") -> Non-Compliant | B26: CLIF | C26: CLIF Luna Bar - White Choc Macadamia | D26: 1.69 | E26: 48 | F26: 1 | G26: 190 | H26: 7 | I26: 60 | J26: 2.5 | K26: 0 | L26: 210 | M26: 11 | N26: =F26*G26 -> 190 | O26: =F26*H26 -> 7 | P26: =(I26*F26)/N26 -> 0.31578947 | Q26: =F26*J26 -> 2.5 | R26: =(Q26*9)/N26 -> 0.11842105 | S26: =F26*K26 -> 0 | T26: =L26*F26 -> 210 | U26: =M26*F26 -> 11 | V26: =(U26*4)/N26 -> 0.23157895 | W26: =U26/E26 -> 0.22916667 | X26: =IF($D$3="Calories",N26,"") -> 190 | Y26: =IF($F$3="Grams",O26,IF($F$3="% Calories",P26,"")) -> 7 | Z26: =IF($G$3="Grams",K26,"") | AA26: =IF($H$3="Grams",Q26,IF($H$3="% Calories",R26,"")) -> 2.5 | AB26: =IF($I$3="Milligrams",T26,"") | AC26: =IF($E$3="Grams",U26, IF($E$3="% Calories", V26, IF($E$3="% Weight",W26, ""))) -> 11 | AD26: 1
A27: =IF(AND((AC27<=$E$4),(AB27<=$I$4),(AA27<=$H$4),(Z27<=$G$4),(Y27<=$F$4),(X27<=$D$4)),"Compliant","Non-Compliant") -> Non-Compliant | B27: CLIF | C27: CLIF Mojo Mountain Mix | D27: 1.59 | E27: 45 | F27: 1 | G27: 190 | H27: 9 | I27: 80 | J27: 1.5 | K27: 0 | L27: 200 | M27: 12 | N27: =F27*G27 -> 190 | O27: =F27*H27 -> 9 | P27: =(I27*F27)/N27 -> 0.42105263 | Q27: =F27*J27 -> 1.5 | R27: =(Q27*9)/N27 -> 0.071052632 | S27: =F27*K27 -> 0 | T27: =L27*F27 -> 200 | U27: =M27*F27 -> 12 | V27: =(U27*4)/N27 -> 0.25263158 | W27: =U27/E27 -> 0.26666667 | X27: =IF($D$3="Calories",N27,"") -> 190 | Y27: =IF($F$3="Grams",O27,IF($F$3="% Calories",P27,"")) -> 9 | Z27: =IF($G$3="Grams",K27,"") | AA27: =IF($H$3="Grams",Q27,IF($H$3="% Calories",R27,"")) -> 1.5 | AB27: =IF($I$3="Milligrams",T27,"") | AC27: =IF($E$3="Grams",U27, IF($E$3="% Calories", V27, IF($E$3="% Weight",W27, ""))) -> 12 | AD27: 1
A28: =IF(AND((AC28<=$E$4),(AB28<=$I$4),(AA28<=$H$4),(Z28<=$G$4),(Y28<=$F$4),(X28<=$D$4)),"Compliant","Non-Compliant") -> Non-Compliant | B28: CLIF | C28: CLIF Mojo Peanut Butter Pretzel | D28: 1.59 | E28: 45 | F28: 1 | G28: 190 | H28: 9 | I28: 80 | J28: 2 | K28: 0 | L28: 220 | M28: 9 | N28: =F28*G28 -> 190 | O28: =F28*H28 -> 9 | P28: =(I28*F28)/N28 -> 0.42105263 | Q28: =F28*J28 -> 2 | R28: =(Q28*9)/N28 -> 0.094736842 | S28: =F28*K28 -> 0 | T28: =L28*F28 -> 220 | U28: =M28*F28 -> 9 | V28: =(U28*4)/N28 -> 0.18947368 | W28: =U28/E28 -> 0.2 | X28: =IF($D$3="Calories",N28,"") -> 190 | Y28: =IF($F$3="Grams",O28,IF($F$3="% Calories",P28,"")) -> 9 | Z28: =IF($G$3="Grams",K28,"") | AA28: =IF($H$3="Grams",Q28,IF($H$3="% Calories",R28,"")) -> 2 | AB28: =IF($I$3="Milligrams",T28,"") | AC28: =IF($E$3="Grams",U28, IF($E$3="% Calories", V28, IF($E$3="% Weight",W28, ""))) -> 9 | AD28: 1
A29: =IF(AND((AC29<=$E$4),(AB29<=$I$4),(AA29<=$H$4),(Z29<=$G$4),(Y29<=$F$4),(X29<=$D$4)),"Compliant","Non-Compliant") -> Compliant | B29: CLIF | C29: CLIF Z Bar Chocolate Brownie - #2 | D29: 1.27 | E29: 36 | F29: 1 | G29: 120 | H29: 3.5 | I29: 30 | J29: 1 | K29: 0 | L29: 125 | M29: 10 | N29: =F29*G29 -> 120 | O29: =F29*H29 -> 3.5 | P29: =(I29*F29)/N29 -> 0.25 | Q29: =F29*J29 -> 1 | R29: =(Q29*9)/N29 -> 0.075 | S29: =F29*K29 -> 0 | T29: =L29*F29 -> 125 | U29: =M29*F29 -> 10 | V29: =(U29*4)/N29 -> 0.33333333 | W29: =U29/E29 -> 0.27777778 | X29: =IF($D$3="Calories",N29,"") -> 120 | Y29: =IF($F$3="Grams",O29,IF($F$3="% Calories",P29,"")) -> 3.5 | Z29: =IF($G$3="Grams",K29,"") | AA29: =IF($H$3="Grams",Q29,IF($H$3="% Calories",R29,"")) -> 1 | AB29: =IF($I$3="Milligrams",T29,"") | AC29: =IF($E$3="Grams",U29, IF($E$3="% Calories", V29, IF($E$3="% Weight",W29, ""))) -> 10 | AD29: 1
A30: =IF(AND((AC30<=$E$4),(AB30<=$I$4),(AA30<=$H$4),(Z30<=$G$4),(Y30<=$F$4),(X30<=$D$4)),"Compliant","Non-Compliant") -> Non-Compliant | B30: CLIF | C30: CLIF Z Bar Chocolate Chip (Ranked # 1 by manuf | D30: 1.27 | E30: 36 | F30: 1 | G30: 130 | H30: 4 | I30: 35 | J30: 1.5 | K30: 0 | L30: 100 | M30: 11 | N30: =F30*G30 -> 130 | O30: =F30*H30 -> 4 | P30: =(I30*F30)/N30 -> 0.26923077 | Q30: =F30*J30 -> 1.5 | R30: =(Q30*9)/N30 -> 0.10384615 | S30: =F30*K30 -> 0 | T30: =L30*F30 -> 100 | U30: =M30*F30 -> 11 | V30: =(U30*4)/N30 -> 0.33846154 | W30: =U30/E30 -> 0.30555556 | X30: =IF($D$3="Calories",N30,"") -> 130 | Y30: =IF($F$3="Grams",O30,IF($F$3="% Calories",P30,"")) -> 4 | Z30: =IF($G$3="Grams",K30,"") | AA30: =IF($H$3="Grams",Q30,IF($H$3="% Calories",R30,"")) -> 1.5 | AB30: =IF($I$3="Milligrams",T30,"") | AC30: =IF($E$3="Grams",U30, IF($E$3="% Calories", V30, IF($E$3="% Weight",W30, ""))) -> 11 | AD30: 1
A31: =IF(AND((AC31<=$E$4),(AB31<=$I$4),(AA31<=$H$4),(Z31<=$G$4),(Y31<=$F$4),(X31<=$D$4)),"Compliant","Non-Compliant") -> Compliant | B31: CLIF | C31: CLIF Z Bar Honey Graham - #3 | D31: 1.27 | E31: 36 | F31: 1 | G31: 130 | H31: 2 | I31: 25 | J31: 0.5 | K31: 0 | L31: 95 | M31: 10 | N31: =F31*G31 -> 130 | O31: =F31*H31 -> 2 | P31: =(I31*F31)/N31 -> 0.19230769 | Q31: =F31*J31 -> 0.5 | R31: =(Q31*9)/N31 -> 0.034615385 | S31: =F31*K31 -> 0 | T31: =L31*F31 -> 95 | U31: =M31*F31 -> 10 | V31: =(U31*4)/N31 -> 0.30769231 | W31: =U31/E31 -> 0.27777778 | X31: =IF($D$3="Calories",N31,"") -> 130 | Y31: =IF($F$3="Grams",O31,IF($F$3="% Calories",P31,"")) -> 2 | Z31: =IF($G$3="Grams",K31,"") | AA31: =IF($H$3="Grams",Q31,IF($H$3="% Calories",R31,"")) -> 0.5 | AB31: =IF($I$3="Milligrams",T31,"") | AC31: =IF($E$3="Grams",U31, IF($E$3="% Calories", V31, IF($E$3="% Weight",W31, ""))) -> 10 | AD31: 1
... A44: =IF(AND((AC44<=$E$4),(AB44<=$I$4),(AA44<=$H$4),(Z44<=$G$4),(Y44<=$F$4),(X44<=$D$4)),"Compliant","Non-Compliant") -> Non-Compliant | B44: Duchess | C44: Sugar Donuts | D44: 3 | E44: 85 | F44: 1 | G44: 370 | H44: 18 | I44: 160 | J44: 9 | K44: 0 | L44: 430 | M44: 26 | N44: =F44*G44 -> 370 | O44: =F44*H44 -> 18 | P44: =(I44*F44)/N44 -> 0.43243243 | Q44: =F44*J44 -> 9 | R44: =(Q44*9)/N44 -> 0.21891892 | S44: =F44*K44 -> 0 | T44: =L44*F44 -> 430 | U44: =M44*F44 -> 26 | V44: =(U44*4)/N44 -> 0.28108108 | W44: =U44/E44 -> 0.30588235 | X44: =IF($D$3="Calories",N44,"") -> 370 | Y44: =IF($F$3="Grams",O44,IF($F$3="% Calories",P44,"")) -> 18 | Z44: =IF($G$3="Grams",K44,"") | AA44: =IF($H$3="Grams",Q44,IF($H$3="% Calories",R44,"")) -> 9 | AB44: =IF($I$3="Milligrams",T44,"") | AC44: =IF($E$3="Grams",U44, IF($E$3="% Calories", V44, IF($E$3="% Weight",W44, ""))) -> 26 | AD44: 1
A45: =IF(AND((AC45<=$E$4),(AB45<=$I$4),(AA45<=$H$4),(Z45<=$G$4),(Y45<=$F$4),(X45<=$D$4)),"Compliant","Non-Compliant") -> Non-Compliant | B45: Evans Foods | C45: Mac's Bar-B-Q Pork Skins | D45: 1 | E45: 28.4 | F45: =E45/14 -> 2.0285714 | G45: 80 | H45: 5 | I45: 45 | J45: 1.5 | K45: 0 | L45: 330 | M45: 0 | N45: =F45*G45 -> 162.28571 | O45: =F45*H45 -> 10.142857 | P45: =(I45*F45)/N45 -> 0.5625 | Q45: =F45*J45 -> 3.0428571 | R45: =(Q45*9)/N45 -> 0.16875 | S45: =F45*K45 -> 0 | T45: =L45*F45 -> 669.42857 | U45: =M45*F45 -> 0 | V45: =(U45*4)/N45 -> 0 | W45: =U45/E45 -> 0 | X45: =IF($D$3="Calories",N45,"") -> 162.28571 | Y45: =IF($F$3="Grams",O45,IF($F$3="% Calories",P45,"")) -> 10.142857 | Z45: =IF($G$3="Grams",K45,"") | AA45: =IF($H$3="Grams",Q45,IF($H$3="% Calories",R45,"")) -> 3.0428571 | AB45: =IF($I$3="Milligrams",T45,"") | AC45: =IF($E$3="Grams",U45, IF($E$3="% Calories", V45, IF($E$3="% Weight",W45, ""))) -> 0 | AD45: 1
A46: =IF(AND((AC46<=$E$4),(AB46<=$I$4),(AA46<=$H$4),(Z46<=$G$4),(Y46<=$F$4),(X46<=$D$4)),"Compliant","Non-Compliant") -> Compliant | B46: Fiber One | C46: 90 Calorie Carmel Sea Salt Bar | D46: 0.89 | E46: 25 | F46: 1 | G46: 90 | H46: 2.5 | I46: 25 | J46: 1 | K46: 0 | L46: 115 | M46: 9 | N46: =F46*G46 -> 90 | O46: =F46*H46 -> 2.5 | P46: =(I46*F46)/N46 -> 0.27777778 | Q46: =F46*J46 -> 1 | R46: =(Q46*9)/N46 -> 0.1 | S46: =F46*K46 -> 0 | T46: =L46*F46 -> 115 | U46: =M46*F46 -> 9 | V46: =(U46*4)/N46 -> 0.4 | W46: =U46/E46 -> 0.36 | X46: =IF($D$3="Calories",N46,"") -> 90 | Y46: =IF($F$3="Grams",O46,IF($F$3="% Calories",P46,"")) -> 2.5 | Z46: =IF($G$3="Grams",K46,"") | AA46: =IF($H$3="Grams",Q46,IF($H$3="% Calories",R46,"")) -> 1 | AB46: =IF($I$3="Milligrams",T46,"") | AC46: =IF($E$3="Grams",U46, IF($E$3="% Calories", V46, IF($E$3="% Weight",W46, ""))) -> 9 | AD46: 1
A47: =IF(AND((AC47<=$E$4),(AB47<=$I$4),(AA47<=$H$4),(Z47<=$G$4),(Y47<=$F$4),(X47<=$D$4)),"Compliant","Non-Compliant") -> Compliant | B47: Fiber One | C47: 90 Calorie Chcolate Peanut Butter Brownie | D47: 0.89 | E47: 25 | F47: 1 | G47: 90 | H47: 3 | I47: 30 | J47: 1.5 | K47: 0 | L47: 110 | M47: 7 | N47: =F47*G47 -> 90 | O47: =F47*H47 -> 3 | P47: =(I47*F47)/N47 -> 0.33333333 | Q47: =F47*J47 -> 1.5 | R47: =(Q47*9)/N47 -> 0.15 | S47: =F47*K47 -> 0 | T47: =L47*F47 -> 110 | U47: =M47*F47 -> 7 | V47: =(U47*4)/N47 -> 0.31111111 | W47: =U47/E47 -> 0.28 | X47: =IF($D$3="Calories",N47,"") -> 90 | Y47: =IF($F$3="Grams",O47,IF($F$3="% Calories",P47,"")) -> 3 | Z47: =IF($G$3="Grams",K47,"") | AA47: =IF($H$3="Grams",Q47,IF($H$3="% Calories",R47,"")) -> 1.5 | AB47: =IF($I$3="Milligrams",T47,"") | AC47: =IF($E$3="Grams",U47, IF($E$3="% Calories", V47, IF($E$3="% Weight",W47, ""))) -> 7 | AD47: 1
A48: =IF(AND((AC48<=$E$4),(AB48<=$I$4),(AA48<=$H$4),(Z48<=$G$4),(Y48<=$F$4),(X48<=$D$4)),"Compliant","Non-Compliant") -> Compliant | B48: Fiber One | C48: 90 Calorie Chocolate Chip Cookie | D48: 0.89 | E48: 25 | F48: 1 | G48: 90 | H48: 3 | I48: 35 | J48: 1.5 | K48: 0 | L48: 90 | M48: 8 | N48: =F48*G48 -> 90 | O48: =F48*H48 -> 3 | P48: =(I48*F48)/N48 -> 0.38888889 | Q48: =F48*J48 -> 1.5 | R48: =(Q48*9)/N48 -> 0.15 | S48: =F48*K48 -> 0 | T48: =L48*F48 -> 90 | U48: =M48*F48 -> 8 | V48: =(U48*4)/N48 -> 0.35555556 | W48: =U48/E48 -> 0.32 | X48: =IF($D$3="Calories",N48,"") -> 90 | Y48: =IF($F$3="Grams",O48,IF($F$3="% Calories",P48,"")) -> 3 | Z48: =IF($G$3="Grams",K48,"") | AA48: =IF($H$3="Grams",Q48,IF($H$3="% Calories",R48,"")) -> 1.5 | AB48: =IF($I$3="Milligrams",T48,"") | AC48: =IF($E$3="Grams",U48, IF($E$3="% Calories", V48, IF($E$3="% Weight",W48, ""))) -> 8 | AD48: 1
A49: =IF(AND((AC49<=$E$4),(AB49<=$I$4),(AA49<=$H$4),(Z49<=$G$4),(Y49<=$F$4),(X49<=$D$4)),"Compliant","Non-Compliant") -> Compliant | B49: Fiber One | C49: 90 Calorie Chocolate Fudge Brownie | D49: 0.89 | E49: 25 | F49: 1 | G49: 90 | H49: 3 | I49: 25 | J49: 1.5 | K49: 0 | L49: 100 | M49: 8 | N49: =F49*G49 -> 90 | O49: =F49*H49 -> 3 | P49: =(I49*F49)/N49 -> 0.27777778 | Q49: =F49*J49 -> 1.5 | R49: =(Q49*9)/N49 -> 0.15 | S49: =F49*K49 -> 0 | T49: =L49*F49 -> 100 | U49: =M49*F49 -> 8 | V49: =(U49*4)/N49 -> 0.35555556 | W49: =U49/E49 -> 0.32 | X49: =IF($D$3="Calories",N49,"") -> 90 | Y49: =IF($F$3="Grams",O49,IF($F$3="% Calories",P49,"")) -> 3 | Z49: =IF($G$3="Grams",K49,"") | AA49: =IF($H$3="Grams",Q49,IF($H$3="% Calories",R49,"")) -> 1.5 | AB49: =IF($I$3="Milligrams",T49,"") | AC49: =IF($E$3="Grams",U49, IF($E$3="% Calories", V49, IF($E$3="% Weight",W49, ""))) -> 8 | AD49: 1
A50: =IF(AND((AC50<=$E$4),(AB50<=$I$4),(AA50<=$H$4),(Z50<=$G$4),(Y50<=$F$4),(X50<=$D$4)),"Compliant","Non-Compliant") -> Compliant | B50: Fiber One | C50: 90 Calorie Cinnamon Coffee Cake | D50: 0.89 | E50: 25 | F50: 1 | G50: 90 | H50: 3 | I50: 25 | J50: 1.5 | K50: 0 | L50: 85 | M50: 8 | N50: =F50*G50 -> 90 | O50: =F50*H50 -> 3 | P50: =(I50*F50)/N50 -> 0.27777778 | Q50: =F50*J50 -> 1.5 | R50: =(Q50*9)/N50 -> 0.15 | S50: =F50*K50 -> 0 | T50: =L50*F50 -> 85 | U50: =M50*F50 -> 8 | V50: =(U50*4)/N50 -> 0.35555556 | W50: =U50/E50 -> 0.32 | X50: =IF($D$3="Calories",N50,"") -> 90 | Y50: =IF($F$3="Grams",O50,IF($F$3="% Calories",P50,"")) -> 3 | Z50: =IF($G$3="Grams",K50,"") | AA50: =IF($H$3="Grams",Q50,IF($H$3="% Calories",R50,"")) -> 1.5 | AB50: =IF($I$3="Milligrams",T50,"") | AC50: =IF($E$3="Grams",U50, IF($E$3="% Calories", V50, IF($E$3="% Weight",W50, ""))) -> 8 | AD50: 1
A51: =IF(AND((AC51<=$E$4),(AB51<=$I$4),(AA51<=$H$4),(Z51<=$G$4),(Y51<=$F$4),(X51<=$D$4)),"Compliant","Non-Compliant") -> Compliant | B51: Fiber One | C51: 90 Calorie Lemon Bar | D51: 0.89 | E51: 25 | F51: 1 | G51: 90 | H51: 3 | I51: 30 | J51: 1.5 | K51: 0 | L51: 80 | M51: 8 | N51: =F51*G51 -> 90 | O51: =F51*H51 -> 3 | P51: =(I51*F51)/N51 -> 0.33333333 | Q51: =F51*J51 -> 1.5 | R51: =(Q51*9)/N51 -> 0.15 | S51: =F51*K51 -> 0 | T51: =L51*F51 -> 80 | U51: =M51*F51 -> 8 | V51: =(U51*4)/N51 -> 0.35555556 | W51: =U51/E51 -> 0.32 | X51: =IF($D$3="Calories",N51,"") -> 90 | Y51: =IF($F$3="Grams",O51,IF($F$3="% Calories",P51,"")) -> 3 | Z51: =IF($G$3="Grams",K51,"") | AA51: =IF($H$3="Grams",Q51,IF($H$3="% Calories",R51,"")) -> 1.5 | AB51: =IF($I$3="Milligrams",T51,"") | AC51: =IF($E$3="Grams",U51, IF($E$3="% Calories", V51, IF($E$3="% Weight",W51, ""))) -> 8 | AD51: 1
A52: =IF(AND((AC52<=$E$4),(AB52<=$I$4),(AA52<=$H$4),(Z52<=$G$4),(Y52<=$F$4),(X52<=$D$4)),"Compliant","Non-Compliant") -> Compliant | B52: Fiber One | C52: Chewy Bars - 90 Calorie - Chocolate | D52: 0.82 | E52: 23 | F52: 1 | G52: 90 | H52: 2 | I52: 20 | J52: 1 | K52: 0 | L52: 80 | M52: 5 | N52: =F52*G52 -> 90 | O52: =F52*H52 -> 2 | P52: =(I52*F52)/N52 -> 0.22222222 | Q52: =F52*J52 -> 1 | R52: =(Q52*9)/N52 -> 0.1 | S52: =F52*K52 -> 0 | T52: =L52*F52 -> 80 | U52: =M52*F52 -> 5 | V52: =(U52*4)/N52 -> 0.22222222 | W52: =U52/E52 -> 0.2173913 | X52: =IF($D$3="Calories",N52,"") -> 90 | Y52: =IF($F$3="Grams",O52,IF($F$3="% Calories",P52,"")) -> 2 | Z52: =IF($G$3="Grams",K52,"") | AA52: =IF($H$3="Grams",Q52,IF($H$3="% Calories",R52,"")) -> 1 | AB52: =IF($I$3="Milligrams",T52,"") | AC52: =IF($E$3="Grams",U52, IF($E$3="% Calories", V52, IF($E$3="% Weight",W52, ""))) -> 5 | AD52: 1
A53: =IF(AND((AC53<=$E$4),(AB53<=$I$4),(AA53<=$H$4),(Z53<=$G$4),(Y53<=$F$4),(X53<=$D$4)),"Compliant","Non-Compliant") -> Compliant | B53: Fiber One | C53: Chewy Bars - 90 Calorie - Chocolate Carmel & Pretzel | D53: 0.82 | E53: 23 | F53: 1 | G53: 90 | H53: 2 | I53: 20 | J53: 1.5 | K53: 0 | L53: 90 | M53: 5 | N53: =F53*G53 -> 90 | O53: =F53*H53 -> 2 | P53: =(I53*F53)/N53 -> 0.22222222 | Q53: =F53*J53 -> 1.5 | R53: =(Q53*9)/N53 -> 0.15 | S53: =F53*K53 -> 0 | T53: =L53*F53 -> 90 | U53: =M53*F53 -> 5 | V53: =(U53*4)/N53 -> 0.22222222 | W53: =U53/E53 -> 0.2173913 | X53: =IF($D$3="Calories",N53,"") -> 90 | Y53: =IF($F$3="Grams",O53,IF($F$3="% Calories",P53,"")) -> 2 | Z53: =IF($G$3="Grams",K53,"") | AA53: =IF($H$3="Grams",Q53,IF($H$3="% Calories",R53,"")) -> 1.5 | AB53: =IF($I$3="Milligrams",T53,"") | AC53: =IF($E$3="Grams",U53, IF($E$3="% Calories", V53, IF($E$3="% Weight",W53, ""))) -> 5 | AD53: 1
A54: =IF(AND((AC54<=$E$4),(AB54<=$I$4),(AA54<=$H$4),(Z54<=$G$4),(Y54<=$F$4),(X54<=$D$4)),"Compliant","Non-Compliant") -> Compliant | B54: Fiber One | C54: Chewy Bars - 90 Calorie - Peanut Butter | D54: 0.82 | E54: 23 | F54: 1 | G54: 90 | H54: 2.5 | I54: 20 | J54: 1 | K54: 0 | L54: 80 | M54: 5 | N54: =F54*G54 -> 90 | O54: =F54*H54 -> 2.5 | P54: =(I54*F54)/N54 -> 0.22222222 | Q54: =F54*J54 -> 1 | R54: =(Q54*9)/N54 -> 0.1 | S54: =F54*K54 -> 0 | T54: =L54*F54 -> 80 | U54: =M54*F54 -> 5 | V54: =(U54*4)/N54 -> 0.22222222 | W54: =U54/E54 -> 0.2173913 | X54: =IF($D$3="Calories",N54,"") -> 90 | Y54: =IF($F$3="Grams",O54,IF($F$3="% Calories",P54,"")) -> 2.5 | Z54: =IF($G$3="Grams",K54,"") | AA54: =IF($H$3="Grams",Q54,IF($H$3="% Calories",R54,"")) -> 1 | AB54: =IF($I$3="Milligrams",T54,"") | AC54: =IF($E$3="Grams",U54, IF($E$3="% Calories", V54, IF($E$3="% Weight",W54, ""))) -> 5 | AD54: 1
A55: =IF(AND((AC55<=$E$4),(AB55<=$I$4),(AA55<=$H$4),(Z55<=$G$4),(Y55<=$F$4),(X55<=$D$4)),"Compliant","Non-Compliant") -> Compliant | B55: Fiber One | C55: Chewy Bars - Chocolate Mocha | D55: 1.4 | E55: 40 | F55: 1 | G55: 140 | H55: 4 | I55: 40 | J55: 2 | K55: 0 | L55: 95 | M55: 10 | N55: =F55*G55 -> 140 | O55: =F55*H55 -> 4 | P55: =(I55*F55)/N55 -> 0.28571429 | Q55: =F55*J55 -> 2 | R55: =(Q55*9)/N55 -> 0.12857143 | S55: =F55*K55 -> 0 | T55: =L55*F55 -> 95 | U55: =M55*F55 -> 10 | V55: =(U55*4)/N55 -> 0.28571429 | W55: =U55/E55 -> 0.25 | X55: =IF($D$3="Calories",N55,"") -> 140 | Y55: =IF($F$3="Grams",O55,IF($F$3="% Calories",P55,"")) -> 4 | Z55: =IF($G$3="Grams",K55,"") | AA55: =IF($H$3="Grams",Q55,IF($H$3="% Calories",R55,"")) -> 2 | AB55: =IF($I$3="Milligrams",T55,"") | AC55: =IF($E$3="Grams",U55, IF($E$3="% Calories", V55, IF($E$3="% Weight",W55, ""))) -> 10 | AD55: 1
A56: =IF(AND((AC56<=$E$4),(AB56<=$I$4),(AA56<=$H$4),(Z56<=$G$4),(Y56<=$F$4),(X56<=$D$4)),"Compliant","Non-Compliant") -> Compliant | B56: Fiber One | C56: Chewy Bars - Oats & Caramel | D56: 1.4 | E56: 40 | F56: 1 | G56: 140 | H56: 3.5 | I56: 30 | J56: 1.5 | K56: 0 | L56: 105 | M56: 9 | N56: =F56*G56 -> 140 | O56: =F56*H56 -> 3.5 | P56: =(I56*F56)/N56 -> 0.21428571 | Q56: =F56*J56 -> 1.5 | R56: =(Q56*9)/N56 -> 0.096428571 | S56: =F56*K56 -> 0 | T56: =L56*F56 -> 105 | U56: =M56*F56 -> 9 | V56: =(U56*4)/N56 -> 0.25714286 | W56: =U56/E56 -> 0.225 | X56: =IF($D$3="Calories",N56,"") -> 140 | Y56: =IF($F$3="Grams",O56,IF($F$3="% Calories",P56,"")) -> 3.5 | Z56: =IF($G$3="Grams",K56,"") | AA56: =IF($H$3="Grams",Q56,IF($H$3="% Calories",R56,"")) -> 1.5 | AB56: =IF($I$3="Milligrams",T56,"") | AC56: =IF($E$3="Grams",U56, IF($E$3="% Calories", V56, IF($E$3="% Weight",W56, ""))) -> 9 | AD56: 1
A57: =IF(AND((AC57<=$E$4),(AB57<=$I$4),(AA57<=$H$4),(Z57<=$G$4),(Y57<=$F$4),(X57<=$D$4)),"Compliant","Non-Compliant") -> Compliant | B57: Fiber One | C57: Chewy Bars - Oats & Chocolate Bar | D57: 1.4 | E57: 40 | F57: 1 | G57: 140 | H57: 4 | I57: 35 | J57: 2 | K57: 0 | L57: 90 | M57: 10 | N57: =F57*G57 -> 140 | O57: =F57*H57 -> 4 | P57: =(I57*F57)/N57 -> 0.25 | Q57: =F57*J57 -> 2 | R57: =(Q57*9)/N57 -> 0.12857143 | S57: =F57*K57 -> 0 | T57: =L57*F57 -> 90 | U57: =M57*F57 -> 10 | V57: =(U57*4)/N57 -> 0.28571429 | W57: =U57/E57 -> 0.25 | X57: =IF($D$3="Calories",N57,"") -> 140 | Y57: =IF($F$3="Grams",O57,IF($F$3="% Calories",P57,"")) -> 4 | Z57: =IF($G$3="Grams",K57,"") | AA57: =IF($H$3="Grams",Q57,IF($H$3="% Calories",R57,"")) -> 2 | AB57: =IF($I$3="Milligrams",T57,"") | AC57: =IF($E$3="Grams",U57, IF($E$3="% Calories", V57, IF($E$3="% Weight",W57, ""))) -> 10 | AD57: 1
... A77: =IF(AND((AC77<=$E$4),(AB77<=$I$4),(AA77<=$H$4),(Z77<=$G$4),(Y77<=$F$4),(X77<=$D$4)),"Compliant","Non-Compliant") -> Non-Compliant | B77: Food Should Taste Good (General Mills) | C77: Tortilla Chips- Sweet Potato | D77: 1.5 | E77: 42 | F77: 1 | G77: 210 | H77: 9 | I77: 90 | J77: 1 | K77: 0 | L77: 120 | M77: 3 | N77: =F77*G77 -> 210 | O77: =F77*H77 -> 9 | P77: =(I77*F77)/N77 -> 0.42857143 | Q77: =F77*J77 -> 1 | R77: =(Q77*9)/N77 -> 0.042857143 | S77: =F77*K77 -> 0 | T77: =L77*F77 -> 120 | U77: =M77*F77 -> 3 | V77: =(U77*4)/N77 -> 0.057142857 | W77: =U77/E77 -> 0.071428571 | X77: =IF($D$3="Calories",N77,"") -> 210 | Y77: =IF($F$3="Grams",O77,IF($F$3="% Calories",P77,"")) -> 9 | Z77: =IF($G$3="Grams",K77,"") | AA77: =IF($H$3="Grams",Q77,IF($H$3="% Calories",R77,"")) -> 1 | AB77: =IF($I$3="Milligrams",T77,"") | AC77: =IF($E$3="Grams",U77, IF($E$3="% Calories", V77, IF($E$3="% Weight",W77, ""))) -> 3 | AD77: 1
A78: =IF(AND((AC78<=$E$4),(AB78<=$I$4),(AA78<=$H$4),(Z78<=$G$4),(Y78<=$F$4),(X78<=$D$4)),"Compliant","Non-Compliant") -> Compliant | B78: Frito Lay | C78: Ruffles Oven Baked Original | D78: =7/8 -> 0.875 | E78: 24.8 | F78: =E78/28 -> 0.88571429 | G78: 120 | H78: 3 | I78: 30 | J78: 0 | K78: 0 | L78: 135 | M78: 1 | N78: =F78*G78 -> 106.28571 | O78: =F78*H78 -> 2.6571429 | P78: =(I78*F78)/N78 -> 0.25 | Q78: =F78*J78 -> 0 | R78: =(Q78*9)/N78 -> 0 | S78: =F78*K78 -> 0 | T78: =L78*F78 -> 119.57143 | U78: =M78*F78 -> 0.88571429 | V78: =(U78*4)/N78 -> 0.033333333 | W78: =U78/E78 -> 0.035714286 | X78: =IF($D$3="Calories",N78,"") -> 106.28571 | Y78: =IF($F$3="Grams",O78,IF($F$3="% Calories",P78,"")) -> 2.6571429 | Z78: =IF($G$3="Grams",K78,"") | AA78: =IF($H$3="Grams",Q78,IF($H$3="% Calories",R78,"")) -> 0 | AB78: =IF($I$3="Milligrams",T78,"") | AC78: =IF($E$3="Grams",U78, IF($E$3="% Calories", V78, IF($E$3="% Weight",W78, ""))) -> 0.88571429 | AD78: 1
A79: =IF(AND((AC79<=$E$4),(AB79<=$I$4),(AA79<=$H$4),(Z79<=$G$4),(Y79<=$F$4),(X79<=$D$4)),"Compliant","Non-Compliant") -> Compliant | B79: Frito Lay and Quaker (PepsiCo) | C79: BAKED! CHEETOS w/ Calcium Crunchy | D79: 0.88 | E79: 25 | F79: 1 | G79: 120 | H79: 4.5 | I79: 120 | J79: 0.5 | K79: 0 | L79: 200 | M79: 0.4 | N79: =F79*G79 -> 120 | O79: =F79*H79 -> 4.5 | P79: =(I79*F79)/N79 -> 1 | Q79: =F79*J79 -> 0.5 | R79: =(Q79*9)/N79 -> 0.0375 | S79: =F79*K79 -> 0 | T79: =L79*F79 -> 200 | U79: =M79*F79 -> 0.4 | V79: =(U79*4)/N79 -> 0.013333333 | W79: =U79/E79 -> 0.016 | X79: =IF($D$3="Calories",N79,"") -> 120 | Y79: =IF($F$3="Grams",O79,IF($F$3="% Calories",P79,"")) -> 4.5 | Z79: =IF($G$3="Grams",K79,"") | AA79: =IF($H$3="Grams",Q79,IF($H$3="% Calories",R79,"")) -> 0.5 | AB79: =IF($I$3="Milligrams",T79,"") | AC79: =IF($E$3="Grams",U79, IF($E$3="% Calories", V79, IF($E$3="% Weight",W79, ""))) -> 0.4 | AD79: 1
A80: =IF(AND((AC80<=$E$4),(AB80<=$I$4),(AA80<=$H$4),(Z80<=$G$4),(Y80<=$F$4),(X80<=$D$4)),"Compliant","Non-Compliant") -> Compliant | B80: Frito Lay and Quaker (PepsiCo) | C80: BAKED! CHEETOS w/ Calcium Flamin Hot | D80: 0.88 | E80: 25 | F80: 1 | G80: 120 | H80: 4.5 | I80: 120 | J80: 0.5 | K80: 0 | L80: 190 | M80: 0 | N80: =F80*G80 -> 120 | O80: =F80*H80 -> 4.5 | P80: =(I80*F80)/N80 -> 1 | Q80: =F80*J80 -> 0.5 | R80: =(Q80*9)/N80 -> 0.0375 | S80: =F80*K80 -> 0 | T80: =L80*F80 -> 190 | U80: =M80*F80 -> 0 | V80: =(U80*4)/N80 -> 0 | W80: =U80/E80 -> 0 | X80: =IF($D$3="Calories",N80,"") -> 120 | Y80: =IF($F$3="Grams",O80,IF($F$3="% Calories",P80,"")) -> 4.5 | Z80: =IF($G$3="Grams",K80,"") | AA80: =IF($H$3="Grams",Q80,IF($H$3="% Calories",R80,"")) -> 0.5 | AB80: =IF($I$3="Milligrams",T80,"") | AC80: =IF($E$3="Grams",U80, IF($E$3="% Calories", V80, IF($E$3="% Weight",W80, ""))) -> 0 | AD80: 1
A81: =IF(AND((AC81<=$E$4),(AB81<=$I$4),(AA81<=$H$4),(Z81<=$G$4),(Y81<=$F$4),(X81<=$D$4)),"Compliant","Non-Compliant") -> Compliant | B81: Frito Lay and Quaker (PepsiCo) | C81: BAKED! DORITOS Nacho Cheese | D81: 0.75 | E81: 21 | F81: 1 | G81: 90 | H81: 3 | I81: 90 | J81: 0.5 | K81: 0 | L81: 170 | M81: 0.4 | N81: =F81*G81 -> 90 | O81: =F81*H81 -> 3 | P81: =(I81*F81)/N81 -> 1 | Q81: =F81*J81 -> 0.5 | R81: =(Q81*9)/N81 -> 0.05 | S81: =F81*K81 -> 0 | T81: =L81*F81 -> 170 | U81: =M81*F81 -> 0.4 | V81: =(U81*4)/N81 -> 0.017777778 | W81: =U81/E81 -> 0.019047619 | X81: =IF($D$3="Calories",N81,"") -> 90 | Y81: =IF($F$3="Grams",O81,IF($F$3="% Calories",P81,"")) -> 3 | Z81: =IF($G$3="Grams",K81,"") | AA81: =IF($H$3="Grams",Q81,IF($H$3="% Calories",R81,"")) -> 0.5 | AB81: =IF($I$3="Milligrams",T81,"") | AC81: =IF($E$3="Grams",U81, IF($E$3="% Calories", V81, IF($E$3="% Weight",W81, ""))) -> 0.4 | AD81: 1
A82: =IF(AND((AC82<=$E$4),(AB82<=$I$4),(AA82<=$H$4),(Z82<=$G$4),(Y82<=$F$4),(X82<=$D$4)),"Compliant","Non-Compliant") -> Compliant | B82: Frito Lay and Quaker (PepsiCo) | C82: BAKED! LAY'S BBQ | D82: 0.88 | E82: 25 | F82: 1 | G82: 110 | H82: 2.5 | I82: 110 | J82: 0 | K82: 0 | L82: 190 | M82: 2 | N82: =F82*G82 -> 110 | O82: =F82*H82 -> 2.5 | P82: =(I82*F82)/N82 -> 1 | Q82: =F82*J82 -> 0 | R82: =(Q82*9)/N82 -> 0 | S82: =F82*K82 -> 0 | T82: =L82*F82 -> 190 | U82: =M82*F82 -> 2 | V82: =(U82*4)/N82 -> 0.072727273 | W82: =U82/E82 -> 0.08 | X82: =IF($D$3="Calories",N82,"") -> 110 | Y82: =IF($F$3="Grams",O82,IF($F$3="% Calories",P82,"")) -> 2.5 | Z82: =IF($G$3="Grams",K82,"") | AA82: =IF($H$3="Grams",Q82,IF($H$3="% Calories",R82,"")) -> 0 | AB82: =IF($I$3="Milligrams",T82,"") | AC82: =IF($E$3="Grams",U82, IF($E$3="% Calories", V82, IF($E$3="% Weight",W82, ""))) -> 2 | AD82: 1
A83: =IF(AND((AC83<=$E$4),(AB83<=$I$4),(AA83<=$H$4),(Z83<=$G$4),(Y83<=$F$4),(X83<=$D$4)),"Compliant","Non-Compliant") -> Compliant | B83: Frito Lay and Quaker (PepsiCo) | C83: BAKED! LAY'S BBQ | D83: 1.125 | E83: 32 | F83: 1 | G83: 140 | H83: 3.5 | I83: 31 | J83: 0.5 | K83: 0 | L83: 220 | M83: 4 | N83: =F83*G83 -> 140 | O83: =F83*H83 -> 3.5 | P83: =(I83*F83)/N83 -> 0.22142857 | Q83: =F83*J83 -> 0.5 | R83: =(Q83*9)/N83 -> 0.032142857 | S83: =F83*K83 -> 0 | T83: =L83*F83 -> 220 | U83: =M83*F83 -> 4 | V83: =(U83*4)/N83 -> 0.11428571 | W83: =U83/E83 -> 0.125 | X83: =IF($D$3="Calories",N83,"") -> 140 | Y83: =IF($F$3="Grams",O83,IF($F$3="% Calories",P83,"")) -> 3.5 | Z83: =IF($G$3="Grams",K83,"") | AA83: =IF($H$3="Grams",Q83,IF($H$3="% Calories",R83,"")) -> 0.5 | AB83: =IF($I$3="Milligrams",T83,"") | AC83: =IF($E$3="Grams",U83, IF($E$3="% Calories", V83, IF($E$3="% Weight",W83, ""))) -> 4 | AD83: 1
A84: =IF(AND((AC84<=$E$4),(AB84<=$I$4),(AA84<=$H$4),(Z84<=$G$4),(Y84<=$F$4),(X84<=$D$4)),"Compliant","Non-Compliant") -> Compliant | B84: Frito Lay and Quaker (PepsiCo) | C84: BAKED! LAY'S Regular | D84: 0.88 | E84: 25 | F84: 1 | G84: 100 | H84: 1.5 | I84: 100 | J84: 0 | K84: 0 | L84: 115 | M84: 2 | N84: =F84*G84 -> 100 | O84: =F84*H84 -> 1.5 | P84: =(I84*F84)/N84 -> 1 | Q84: =F84*J84 -> 0 | R84: =(Q84*9)/N84 -> 0 | S84: =F84*K84 -> 0 | T84: =L84*F84 -> 115 | U84: =M84*F84 -> 2 | V84: =(U84*4)/N84 -> 0.08 | W84: =U84/E84 -> 0.08 | X84: =IF($D$3="Calories",N84,"") -> 100 | Y84: =IF($F$3="Grams",O84,IF($F$3="% Calories",P84,"")) -> 1.5 | Z84: =IF($G$3="Grams",K84,"") | AA84: =IF($H$3="Grams",Q84,IF($H$3="% Calories",R84,"")) -> 0 | AB84: =IF($I$3="Milligrams",T84,"") | AC84: =IF($E$3="Grams",U84, IF($E$3="% Calories", V84, IF($E$3="% Weight",W84, ""))) -> 2 | AD84: 1
A85: =IF(AND((AC85<=$E$4),(AB85<=$I$4),(AA85<=$H$4),(Z85<=$G$4),(Y85<=$F$4),(X85<=$D$4)),"Compliant","Non-Compliant") -> Compliant | B85: Frito Lay and Quaker (PepsiCo) | C85: BAKED! LAY'S REGULAR | D85: 1.125 | E85: 32 | F85: 1 | G85: 130 | H85: 2 | I85: 20 | J85: 0 | K85: 0 | L85: 150 | M85: 2 | N85: =F85*G85 -> 130 | O85: =F85*H85 -> 2 | P85: =(I85*F85)/N85 -> 0.15384615 | Q85: =F85*J85 -> 0 | R85: =(Q85*9)/N85 -> 0 | S85: =F85*K85 -> 0 | T85: =L85*F85 -> 150 | U85: =M85*F85 -> 2 | V85: =(U85*4)/N85 -> 0.061538462 | W85: =U85/E85 -> 0.0625 | X85: =IF($D$3="Calories",N85,"") -> 130 | Y85: =IF($F$3="Grams",O85,IF($F$3="% Calories",P85,"")) -> 2 | Z85: =IF($G$3="Grams",K85,"") | AA85: =IF($H$3="Grams",Q85,IF($H$3="% Calories",R85,"")) -> 0 | AB85: =IF($I$3="Milligrams",T85,"") | AC85: =IF($E$3="Grams",U85, IF($E$3="% Calories", V85, IF($E$3="% Weight",W85, ""))) -> 2 | AD85: 1
A86: =IF(AND((AC86<=$E$4),(AB86<=$I$4),(AA86<=$H$4),(Z86<=$G$4),(Y86<=$F$4),(X86<=$D$4)),"Compliant","Non-Compliant") -> Compliant | B86: Frito Lay and Quaker (PepsiCo) | C86: BAKED! LAY'S Sour Cream & Onion | D86: 0.88 | E86: 25 | F86: 1 | G86: 110 | H86: 3 | I86: 110 | J86: 0 | K86: 0 | L86: 190 | M86: 3 | N86: =F86*G86 -> 110 | O86: =F86*H86 -> 3 | P86: =(I86*F86)/N86 -> 1 | Q86: =F86*J86 -> 0 | R86: =(Q86*9)/N86 -> 0 | S86: =F86*K86 -> 0 | T86: =L86*F86 -> 190 | U86: =M86*F86 -> 3 | V86: =(U86*4)/N86 -> 0.10909091 | W86: =U86/E86 -> 0.12 | X86: =IF($D$3="Calories",N86,"") -> 110 | Y86: =IF($F$3="Grams",O86,IF($F$3="% Calories",P86,"")) -> 3 | Z86: =IF($G$3="Grams",K86,"") | AA86: =IF($H$3="Grams",Q86,IF($H$3="% Calories",R86,"")) -> 0 | AB86: =IF($I$3="Milligrams",T86,"") | AC86: =IF($E$3="Grams",U86, IF($E$3="% Calories", V86, IF($E$3="% Weight",W86, ""))) -> 3 | AD86: 1
A87: =IF(AND((AC87<=$E$4),(AB87<=$I$4),(AA87<=$H$4),(Z87<=$G$4),(Y87<=$F$4),(X87<=$D$4)),"Compliant","Non-Compliant") -> Compliant | B87: Frito Lay and Quaker (PepsiCo) | C87: BAKED! LAY'S Sour Cream and Onion | D87: 1.125 | E87: 32 | F87: 1 | G87: 130 | H87: 3.5 | I87: 28 | J87: 0.5 | K87: 0 | L87: 190 | M87: 4 | N87: =F87*G87 -> 130 | O87: =F87*H87 -> 3.5 | P87: =(I87*F87)/N87 -> 0.21538462 | Q87: =F87*J87 -> 0.5 | R87: =(Q87*9)/N87 -> 0.034615385 | S87: =F87*K87 -> 0 | T87: =L87*F87 -> 190 | U87: =M87*F87 -> 4 | V87: =(U87*4)/N87 -> 0.12307692 | W87: =U87/E87 -> 0.125 | X87: =IF($D$3="Calories",N87,"") -> 130 | Y87: =IF($F$3="Grams",O87,IF($F$3="% Calories",P87,"")) -> 3.5 | Z87: =IF($G$3="Grams",K87,"") | AA87: =IF($H$3="Grams",Q87,IF($H$3="% Calories",R87,"")) -> 0.5 | AB87: =IF($I$3="Milligrams",T87,"") | AC87: =IF($E$3="Grams",U87, IF($E$3="% Calories", V87, IF($E$3="% Weight",W87, ""))) -> 4 | AD87: 1
A88: =IF(AND((AC88<=$E$4),(AB88<=$I$4),(AA88<=$H$4),(Z88<=$G$4),(Y88<=$F$4),(X88<=$D$4)),"Compliant","Non-Compliant") -> Compliant | B88: Frito Lay and Quaker (PepsiCo) | C88: BAKED! LAY'S SOUTHWESTERN RANCH | D88: 1 | E88: 28 | F88: 1 | G88: 120 | H88: 3 | I88: 30 | J88: 0.5 | K88: 0 | L88: 160 | M88: 2 | N88: =F88*G88 -> 120 | O88: =F88*H88 -> 3 | P88: =(I88*F88)/N88 -> 0.25 | Q88: =F88*J88 -> 0.5 | R88: =(Q88*9)/N88 -> 0.0375 | S88: =F88*K88 -> 0 | T88: =L88*F88 -> 160 | U88: =M88*F88 -> 2 | V88: =(U88*4)/N88 -> 0.066666667 | W88: =U88/E88 -> 0.071428571 | X88: =IF($D$3="Calories",N88,"") -> 120 | Y88: =IF($F$3="Grams",O88,IF($F$3="% Calories",P88,"")) -> 3 | Z88: =IF($G$3="Grams",K88,"") | AA88: =IF($H$3="Grams",Q88,IF($H$3="% Calories",R88,"")) -> 0.5 | AB88: =IF($I$3="Milligrams",T88,"") | AC88: =IF($E$3="Grams",U88, IF($E$3="% Calories", V88, IF($E$3="% Weight",W88, ""))) -> 2 | AD88: 1
A89: =IF(AND((AC89<=$E$4),(AB89<=$I$4),(AA89<=$H$4),(Z89<=$G$4),(Y89<=$F$4),(X89<=$D$4)),"Compliant","Non-Compliant") -> Compliant | B89: Frito Lay and Quaker (PepsiCo) | C89: BAKED! TOSTITOS SCOOPS Original | D89: 0.88 | E89: 25 | F89: 1 | G89: 110 | H89: 2.5 | I89: 110 | J89: 0 | K89: 0 | L89: 125 | M89: 0 | N89: =F89*G89 -> 110 | O89: =F89*H89 -> 2.5 | P89: =(I89*F89)/N89 -> 1 | Q89: =F89*J89 -> 0 | R89: =(Q89*9)/N89 -> 0 | S89: =F89*K89 -> 0 | T89: =L89*F89 -> 125 | U89: =M89*F89 -> 0 | V89: =(U89*4)/N89 -> 0 | W89: =U89/E89 -> 0 | X89: =IF($D$3="Calories",N89,"") -> 110 | Y89: =IF($F$3="Grams",O89,IF($F$3="% Calories",P89,"")) -> 2.5 | Z89: =IF($G$3="Grams",K89,"") | AA89: =IF($H$3="Grams",Q89,IF($H$3="% Calories",R89,"")) -> 0 | AB89: =IF($I$3="Milligrams",T89,"") | AC89: =IF($E$3="Grams",U89, IF($E$3="% Calories", V89, IF($E$3="% Weight",W89, ""))) -> 0 | AD89: 1
A90: =IF(AND((AC90<=$E$4),(AB90<=$I$4),(AA90<=$H$4),(Z90<=$G$4),(Y90<=$F$4),(X90<=$D$4)),"Compliant","Non-Compliant") -> Non-Compliant | B90: Frito Lay and Quaker (PepsiCo) | C90: Cheeto - Baked - Crunchy Cheese | D90: 1 | E90: 28.3 | F90: 1 | G90: 150 | H90: 10 | I90: 90 | J90: 1.5 | K90: 0 | L90: 250 | M90: 1 | N90: =F90*G90 -> 150 | O90: =F90*H90 -> 10 | P90: =(I90*F90)/N90 -> 0.6 | Q90: =F90*J90 -> 1.5 | R90: =(Q90*9)/N90 -> 0.09 | S90: =F90*K90 -> 0 | T90: =L90*F90 -> 250 | U90: =M90*F90 -> 1 | V90: =(U90*4)/N90 -> 0.026666667 | W90: =U90/E90 -> 0.035335689 | X90: =IF($D$3="Calories",N90,"") -> 150 | Y90: =IF($F$3="Grams",O90,IF($F$3="% Calories",P90,"")) -> 10 | Z90: =IF($G$3="Grams",K90,"") | AA90: =IF($H$3="Grams",Q90,IF($H$3="% Calories",R90,"")) -> 1.5 | AB90: =IF($I$3="Milligrams",T90,"") | AC90: =IF($E$3="Grams",U90, IF($E$3="% Calories", V90, IF($E$3="% Weight",W90, ""))) -> 1 | AD90: 1
... A109: =IF(AND((AC109<=$E$4),(AB109<=$I$4),(AA109<=$H$4),(Z109<=$G$4),(Y109<=$F$4),(X109<=$D$4)),"Compliant","Non-Compliant") -> Compliant | B109: Frito Lay and Quaker (PepsiCo) | C109: SUNCHIPS APPLE CINNAMON MORNING MIX-U | D109: 1.55 | E109: 44 | F109: 1 | G109: 200 | H109: 6 | I109: 60 | J109: 0.5 | K109: 0 | L109: 130 | M109: 7 | N109: =F109*G109 -> 200 | O109: =F109*H109 -> 6 | P109: =(I109*F109)/N109 -> 0.3 | Q109: =F109*J109 -> 0.5 | R109: =(Q109*9)/N109 -> 0.0225 | S109: =F109*K109 -> 0 | T109: =L109*F109 -> 130 | U109: =M109*F109 -> 7 | V109: =(U109*4)/N109 -> 0.14 | W109: =U109/E109 -> 0.15909091 | X109: =IF($D$3="Calories",N109,"") -> 200 | Y109: =IF($F$3="Grams",O109,IF($F$3="% Calories",P109,"")) -> 6 | Z109: =IF($G$3="Grams",K109,"") | AA109: =IF($H$3="Grams",Q109,IF($H$3="% Calories",R109,"")) -> 0.5 | AB109: =IF($I$3="Milligrams",T109,"") | AC109: =IF($E$3="Grams",U109, IF($E$3="% Calories", V109, IF($E$3="% Weight",W109, ""))) -> 7 | AD109: 1
A110: =IF(AND((AC110<=$E$4),(AB110<=$I$4),(AA110<=$H$4),(Z110<=$G$4),(Y110<=$F$4),(X110<=$D$4)),"Compliant","Non-Compliant") -> Non-Compliant | B110: Frito Lay and Quaker (PepsiCo) | C110: Cheeto - Baked - Crunchy Cheese | D110: 1.5 | E110: 42.5 | F110: =1.5/1 -> 1.5 | G110: 150 | H110: 10 | I110: 90 | J110: 1.5 | K110: 0 | L110: 250 | M110: 1 | N110: =F110*G110 -> 225 | O110: =F110*H110 -> 15 | P110: =(I110*F110)/N110 -> 0.6 | Q110: =F110*J110 -> 2.25 | R110: =(Q110*9)/N110 -> 0.09 | S110: =F110*K110 -> 0 | T110: =L110*F110 -> 375 | U110: =M110*F110 -> 1.5 | V110: =(U110*4)/N110 -> 0.026666667 | W110: =U110/E110 -> 0.035294118 | X110: =IF($D$3="Calories",N110,"") -> 225 | Y110: =IF($F$3="Grams",O110,IF($F$3="% Calories",P110,"")) -> 15 | Z110: =IF($G$3="Grams",K110,"") | AA110: =IF($H$3="Grams",Q110,IF($H$3="% Calories",R110,"")) -> 2.25 | AB110: =IF($I$3="Milligrams",T110,"") | AC110: =IF($E$3="Grams",U110, IF($E$3="% Calories", V110, IF($E$3="% Weight",W110, ""))) -> 1.5 | AD110: 1
A111: =IF(AND((AC111<=$E$4),(AB111<=$I$4),(AA111<=$H$4),(Z111<=$G$4),(Y111<=$F$4),(X111<=$D$4)),"Compliant","Non-Compliant") -> Non-Compliant | B111: Frito Lays | C111: Cheetos Oven Baked Crunchy Cheese | D111: 1.5 | E111: 42 | F111: 1.5 | G111: 130 | H111: 5 | I111: 45 | J111: 1 | K111: 0 | L111: 230 | M111: 0.5 | N111: =F111*G111 -> 195 | O111: =F111*H111 -> 7.5 | P111: =(I111*F111)/N111 -> 0.34615385 | Q111: =F111*J111 -> 1.5 | R111: =(Q111*9)/N111 -> 0.069230769 | S111: =F111*K111 -> 0 | T111: =L111*F111 -> 345 | U111: =M111*F111 -> 0.75 | V111: =(U111*4)/N111 -> 0.015384615 | W111: =U111/E111 -> 0.017857143 | X111: =IF($D$3="Calories",N111,"") -> 195 | Y111: =IF($F$3="Grams",O111,IF($F$3="% Calories",P111,"")) -> 7.5 | Z111: =IF($G$3="Grams",K111,"") | AA111: =IF($H$3="Grams",Q111,IF($H$3="% Calories",R111,"")) -> 1.5 | AB111: =IF($I$3="Milligrams",T111,"") | AC111: =IF($E$3="Grams",U111, IF($E$3="% Calories", V111, IF($E$3="% Weight",W111, ""))) -> 0.75 | AD111: 1
A112: =IF(AND((AC112<=$E$4),(AB112<=$I$4),(AA112<=$H$4),(Z112<=$G$4),(Y112<=$F$4),(X112<=$D$4)),"Compliant","Non-Compliant") -> Non-Compliant | B112: Frito Lays | C112: Fritos - Chili Cheese | D112: 1 | E112: 28.3 | F112: 1 | G112: 160 | H112: 10 | I112: 90 | J112: 1.5 | K112: 0 | L112: 270 | M112: 1 | N112: =F112*G112 -> 160 | O112: =F112*H112 -> 10 | P112: =(I112*F112)/N112 -> 0.5625 | Q112: =F112*J112 -> 1.5 | R112: =(Q112*9)/N112 -> 0.084375 | S112: =F112*K112 -> 0 | T112: =L112*F112 -> 270 | U112: =M112*F112 -> 1 | V112: =(U112*4)/N112 -> 0.025 | W112: =U112/E112 -> 0.035335689 | X112: =IF($D$3="Calories",N112,"") -> 160 | Y112: =IF($F$3="Grams",O112,IF($F$3="% Calories",P112,"")) -> 10 | Z112: =IF($G$3="Grams",K112,"") | AA112: =IF($H$3="Grams",Q112,IF($H$3="% Calories",R112,"")) -> 1.5 | AB112: =IF($I$3="Milligrams",T112,"") | AC112: =IF($E$3="Grams",U112, IF($E$3="% Calories", V112, IF($E$3="% Weight",W112, ""))) -> 1 | AD112: 1
A113: =IF(AND((AC113<=$E$4),(AB113<=$I$4),(AA113<=$H$4),(Z113<=$G$4),(Y113<=$F$4),(X113<=$D$4)),"Compliant","Non-Compliant") -> Non-Compliant | B113: Frito Lays | C113: Fritos - Flavor Twisters Honey BBQ | D113: 1 | E113: 28.3 | F113: 1 | G113: 150 | H113: 9 | I113: 80 | J113: 1.5 | K113: 0 | L113: 180 | M113: 1 | N113: =F113*G113 -> 150 | O113: =F113*H113 -> 9 | P113: =(I113*F113)/N113 -> 0.53333333 | Q113: =F113*J113 -> 1.5 | R113: =(Q113*9)/N113 -> 0.09 | S113: =F113*K113 -> 0 | T113: =L113*F113 -> 180 | U113: =M113*F113 -> 1 | V113: =(U113*4)/N113 -> 0.026666667 | W113: =U113/E113 -> 0.035335689 | X113: =IF($D$3="Calories",N113,"") -> 150 | Y113: =IF($F$3="Grams",O113,IF($F$3="% Calories",P113,"")) -> 9 | Z113: =IF($G$3="Grams",K113,"") | AA113: =IF($H$3="Grams",Q113,IF($H$3="% Calories",R113,"")) -> 1.5 | AB113: =IF($I$3="Milligrams",T113,"") | AC113: =IF($E$3="Grams",U113, IF($E$3="% Calories", V113, IF($E$3="% Weight",W113, ""))) -> 1 | AD113: 1
A114: =IF(AND((AC114<=$E$4),(AB114<=$I$4),(AA114<=$H$4),(Z114<=$G$4),(Y114<=$F$4),(X114<=$D$4)),"Compliant","Non-Compliant") -> Non-Compliant | B114: Frito Lays | C114: Munchies Bacon Cheddar Sandwich Crackers | D114: 1.38 | E114: 39 | F114: 1 | G114: 200 | H114: 10 | I114: 90 | J114: 4 | K114: 0 | L114: 350 | M114: 3 | N114: =F114*G114 -> 200 | O114: =F114*H114 -> 10 | P114: =(I114*F114)/N114 -> 0.45 | Q114: =F114*J114 -> 4 | R114: =(Q114*9)/N114 -> 0.18 | S114: =F114*K114 -> 0 | T114: =L114*F114 -> 350 | U114: =M114*F114 -> 3 | V114: =(U114*4)/N114 -> 0.06 | W114: =U114/E114 -> 0.076923077 | X114: =IF($D$3="Calories",N114,"") -> 200 | Y114: =IF($F$3="Grams",O114,IF($F$3="% Calories",P114,"")) -> 10 | Z114: =IF($G$3="Grams",K114,"") | AA114: =IF($H$3="Grams",Q114,IF($H$3="% Calories",R114,"")) -> 4 | AB114: =IF($I$3="Milligrams",T114,"") | AC114: =IF($E$3="Grams",U114, IF($E$3="% Calories", V114, IF($E$3="% Weight",W114, ""))) -> 3 | AD114: 1
A115: =IF(AND((AC115<=$E$4),(AB115<=$I$4),(AA115<=$H$4),(Z115<=$G$4),(Y115<=$F$4),(X115<=$D$4)),"Compliant","Non-Compliant") -> Non-Compliant | B115: Frito Lays | C115: Munchies Jalapeno Cheddar Sandwich Crackers | D115: 1.38 | E115: 39 | F115: 1 | G115: 200 | H115: 10 | I115: 90 | J115: 3.5 | K115: 0 | L115: 350 | M115: 4 | N115: =F115*G115 -> 200 | O115: =F115*H115 -> 10 | P115: =(I115*F115)/N115 -> 0.45 | Q115: =F115*J115 -> 3.5 | R115: =(Q115*9)/N115 -> 0.1575 | S115: =F115*K115 -> 0 | T115: =L115*F115 -> 350 | U115: =M115*F115 -> 4 | V115: =(U115*4)/N115 -> 0.08 | W115: =U115/E115 -> 0.1025641 | X115: =IF($D$3="Calories",N115,"") -> 200 | Y115: =IF($F$3="Grams",O115,IF($F$3="% Calories",P115,"")) -> 10 | Z115: =IF($G$3="Grams",K115,"") | AA115: =IF($H$3="Grams",Q115,IF($H$3="% Calories",R115,"")) -> 3.5 | AB115: =IF($I$3="Milligrams",T115,"") | AC115: =IF($E$3="Grams",U115, IF($E$3="% Calories", V115, IF($E$3="% Weight",W115, ""))) -> 4 | AD115: 1
A116: =IF(AND((AC116<=$E$4),(AB116<=$I$4),(AA116<=$H$4),(Z116<=$G$4),(Y116<=$F$4),(X116<=$D$4)),"Compliant","Non-Compliant") -> Non-Compliant | B116: Frito Lays | C116: Smartfood Popcorn White Cheddar | E116: 21.2 | F116: =21.2/28 -> 0.75714286 | G116: 160 | H116: 10 | I116: 90 | J116: 2 | K116: 0 | L116: 290 | M116: 2 | N116: =F116*G116 -> 121.14286 | O116: =F116*H116 -> 7.5714286 | P116: =(I116*F116)/N116 -> 0.5625 | Q116: =F116*J116 -> 1.5142857 | R116: =(Q116*9)/N116 -> 0.1125 | S116: =F116*K116 -> 0 | T116: =L116*F116 -> 219.57143 | U116: =M116*F116 -> 1.5142857 | V116: =(U116*4)/N116 -> 0.05 | W116: =U116/E116 -> 0.071428571 | X116: =IF($D$3="Calories",N116,"") -> 121.14286 | Y116: =IF($F$3="Grams",O116,IF($F$3="% Calories",P116,"")) -> 7.5714286 | Z116: =IF($G$3="Grams",K116,"") | AA116: =IF($H$3="Grams",Q116,IF($H$3="% Calories",R116,"")) -> 1.5142857 | AB116: =IF($I$3="Milligrams",T116,"") | AC116: =IF($E$3="Grams",U116, IF($E$3="% Calories", V116, IF($E$3="% Weight",W116, ""))) -> 1.5142857 | AD116: 1
A117: =IF(AND((AC117<=$E$4),(AB117<=$I$4),(AA117<=$H$4),(Z117<=$G$4),(Y117<=$F$4),(X117<=$D$4)),"Compliant","Non-Compliant") -> Non-Compliant | B117: Frito Lays | C117: Sweet Souther Heat Barbecue | D117: 1 | E117: 28 | F117: 1 | G117: 160 | H117: 10 | I117: 90 | J117: 1.5 | K117: 0 | L117: 150 | M117: 2 | N117: =F117*G117 -> 160 | O117: =F117*H117 -> 10 | P117: =(I117*F117)/N117 -> 0.5625 | Q117: =F117*J117 -> 1.5 | R117: =(Q117*9)/N117 -> 0.084375 | S117: =F117*K117 -> 0 | T117: =L117*F117 -> 150 | U117: =M117*F117 -> 2 | V117: =(U117*4)/N117 -> 0.05 | W117: =U117/E117 -> 0.071428571 | X117: =IF($D$3="Calories",N117,"") -> 160 | Y117: =IF($F$3="Grams",O117,IF($F$3="% Calories",P117,"")) -> 10 | Z117: =IF($G$3="Grams",K117,"") | AA117: =IF($H$3="Grams",Q117,IF($H$3="% Calories",R117,"")) -> 1.5 | AB117: =IF($I$3="Milligrams",T117,"") | AC117: =IF($E$3="Grams",U117, IF($E$3="% Calories", V117, IF($E$3="% Weight",W117, ""))) -> 2 | AD117: 1
A118: =IF(AND((AC118<=$E$4),(AB118<=$I$4),(AA118<=$H$4),(Z118<=$G$4),(Y118<=$F$4),(X118<=$D$4)),"Compliant","Non-Compliant") -> Non-Compliant | B118: Frito Lays | C118: Munchies Nacho Cheese Sandwich Crackers | D118: 1.38 | E118: 39 | F118: 1 | G118: 210 | H118: 11 | I118: 100 | J118: 4 | K118: 0 | L118: 370 | M118: 5 | N118: =F118*G118 -> 210 | O118: =F118*H118 -> 11 | P118: =(I118*F118)/N118 -> 0.47619048 | Q118: =F118*J118 -> 4 | R118: =(Q118*9)/N118 -> 0.17142857 | S118: =F118*K118 -> 0 | T118: =L118*F118 -> 370 | U118: =M118*F118 -> 5 | V118: =(U118*4)/N118 -> 0.095238095 | W118: =U118/E118 -> 0.12820513 | X118: =IF($D$3="Calories",N118,"") -> 210 | Y118: =IF($F$3="Grams",O118,IF($F$3="% Calories",P118,"")) -> 11 | Z118: =IF($G$3="Grams",K118,"") | AA118: =IF($H$3="Grams",Q118,IF($H$3="% Calories",R118,"")) -> 4 | AB118: =IF($I$3="Milligrams",T118,"") | AC118: =IF($E$3="Grams",U118, IF($E$3="% Calories", V118, IF($E$3="% Weight",W118, ""))) -> 5 | AD118: 1
A119: =IF(AND((AC119<=$E$4),(AB119<=$I$4),(AA119<=$H$4),(Z119<=$G$4),(Y119<=$F$4),(X119<=$D$4)),"Compliant","Non-Compliant") -> Non-Compliant | B119: Frito Lays | C119: Munchies Peanut Butter Sandwich Crackers | D119: 1.38 | E119: 39 | F119: 1 | G119: 210 | H119: 11 | I119: 100 | J119: 3 | K119: 0 | L119: 260 | M119: 6 | N119: =F119*G119 -> 210 | O119: =F119*H119 -> 11 | P119: =(I119*F119)/N119 -> 0.47619048 | Q119: =F119*J119 -> 3 | R119: =(Q119*9)/N119 -> 0.12857143 | S119: =F119*K119 -> 0 | T119: =L119*F119 -> 260 | U119: =M119*F119 -> 6 | V119: =(U119*4)/N119 -> 0.11428571 | W119: =U119/E119 -> 0.15384615 | X119: =IF($D$3="Calories",N119,"") -> 210 | Y119: =IF($F$3="Grams",O119,IF($F$3="% Calories",P119,"")) -> 11 | Z119: =IF($G$3="Grams",K119,"") | AA119: =IF($H$3="Grams",Q119,IF($H$3="% Calories",R119,"")) -> 3 | AB119: =IF($I$3="Milligrams",T119,"") | AC119: =IF($E$3="Grams",U119, IF($E$3="% Calories", V119, IF($E$3="% Weight",W119, ""))) -> 6 | AD119: 1
A120: =IF(AND((AC120<=$E$4),(AB120<=$I$4),(AA120<=$H$4),(Z120<=$G$4),(Y120<=$F$4),(X120<=$D$4)),"Compliant","Non-Compliant") -> Non-Compliant | B120: General Mills | C120: Berry | D120: 1.42 | E120: 40 | F120: 1 | G120: 190 | H120: 9 | I120: 80 | J120: 3 | K120: 0 | L120: 160 | M120: 11 | N120: =F120*G120 -> 190 | O120: =F120*H120 -> 9 | P120: =(I120*F120)/N120 -> 0.42105263 | Q120: =F120*J120 -> 3 | R120: =(Q120*9)/N120 -> 0.14210526 | S120: =F120*K120 -> 0 | T120: =L120*F120 -> 160 | U120: =M120*F120 -> 11 | V120: =(U120*4)/N120 -> 0.23157895 | W120: =U120/E120 -> 0.275 | X120: =IF($D$3="Calories",N120,"") -> 190 | Y120: =IF($F$3="Grams",O120,IF($F$3="% Calories",P120,"")) -> 9 | Z120: =IF($G$3="Grams",K120,"") | AA120: =IF($H$3="Grams",Q120,IF($H$3="% Calories",R120,"")) -> 3 | AB120: =IF($I$3="Milligrams",T120,"") | AC120: =IF($E$3="Grams",U120, IF($E$3="% Calories", V120, IF($E$3="% Weight",W120, ""))) -> 11 | AD120: 1
A121: =IF(AND((AC121<=$E$4),(AB121<=$I$4),(AA121<=$H$4),(Z121<=$G$4),(Y121<=$F$4),(X121<=$D$4)),"Compliant","Non-Compliant") -> Non-Compliant | B121: General Mills | C121: Bugles - Nacho Cheese | D121: =7/8 -> 0.875 | E121: 25 | F121: 1 | G121: 130 | H121: 7 | I121: 70 | J121: 6 | K121: 0 | L121: 250 | M121: 1 | N121: =F121*G121 -> 130 | O121: =F121*H121 -> 7 | P121: =(I121*F121)/N121 -> 0.53846154 | Q121: =F121*J121 -> 6 | R121: =(Q121*9)/N121 -> 0.41538462 | S121: =F121*K121 -> 0 | T121: =L121*F121 -> 250 | U121: =M121*F121 -> 1 | V121: =(U121*4)/N121 -> 0.030769231 | W121: =U121/E121 -> 0.04 | X121: =IF($D$3="Calories",N121,"") -> 130 | Y121: =IF($F$3="Grams",O121,IF($F$3="% Calories",P121,"")) -> 7 | Z121: =IF($G$3="Grams",K121,"") | AA121: =IF($H$3="Grams",Q121,IF($H$3="% Calories",R121,"")) -> 6 | AB121: =IF($I$3="Milligrams",T121,"") | AC121: =IF($E$3="Grams",U121, IF($E$3="% Calories", V121, IF($E$3="% Weight",W121, ""))) -> 1 | AD121: 1
A122: =IF(AND((AC122<=$E$4),(AB122<=$I$4),(AA122<=$H$4),(Z122<=$G$4),(Y122<=$F$4),(X122<=$D$4)),"Compliant","Non-Compliant") -> Compliant | B122: General Mills | C122: Chex - Bold Party Blend | D122: 1.75 | E122: 49 | F122: 1 | G122: 200 | H122: 6 | I122: 50 | J122: 1 | K122: 0.5 | L122: 340 | M122: 3 | N122: =F122*G122 -> 200 | O122: =F122*H122 -> 6 | P122: =(I122*F122)/N122 -> 0.25 | Q122: =F122*J122 -> 1 | R122: =(Q122*9)/N122 -> 0.045 | S122: =F122*K122 -> 0.5 | T122: =L122*F122 -> 340 | U122: =M122*F122 -> 3 | V122: =(U122*4)/N122 -> 0.06 | W122: =U122/E122 -> 0.06122449 | X122: =IF($D$3="Calories",N122,"") -> 200 | Y122: =IF($F$3="Grams",O122,IF($F$3="% Calories",P122,"")) -> 6 | Z122: =IF($G$3="Grams",K122,"") | AA122: =IF($H$3="Grams",Q122,IF($H$3="% Calories",R122,"")) -> 1 | AB122: =IF($I$3="Milligrams",T122,"") | AC122: =IF($E$3="Grams",U122, IF($E$3="% Calories", V122, IF($E$3="% Weight",W122, ""))) -> 3 | AD122: 1
A123: =IF(AND((AC123<=$E$4),(AB123<=$I$4),(AA123<=$H$4),(Z123<=$G$4),(Y123<=$F$4),(X123<=$D$4)),"Compliant","Non-Compliant") -> Compliant | B123: General Mills | C123: Chex Mix - Sweet & Salty Honey Nut | D123: 1.75 | E123: 49 | F123: =E123/30 -> 1.6333333 | G123: 120 | H123: 3.5 | I123: 30 | J123: 0.5 | K123: 0 | L123: 135 | M123: 5 | N123: =F123*G123 -> 196 | O123: =F123*H123 -> 5.7166667 | P123: =(I123*F123)/N123 -> 0.25 | Q123: =F123*J123 -> 0.81666667 | R123: =(Q123*9)/N123 -> 0.0375 | S123: =F123*K123 -> 0 | T123: =L123*F123 -> 220.5 | U123: =M123*F123 -> 8.1666667 | V123: =(U123*4)/N123 -> 0.16666667 | W123: =U123/E123 -> 0.16666667 | X123: =IF($D$3="Calories",N123,"") -> 196 | Y123: =IF($F$3="Grams",O123,IF($F$3="% Calories",P123,"")) -> 5.7166667 | Z123: =IF($G$3="Grams",K123,"") | AA123: =IF($H$3="Grams",Q123,IF($H$3="% Calories",R123,"")) -> 0.81666667 | AB123: =IF($I$3="Milligrams",T123,"") | AC123: =IF($E$3="Grams",U123, IF($E$3="% Calories", V123, IF($E$3="% Weight",W123, ""))) -> 8.1666667 | AD123: 1
A124: =IF(AND((AC124<=$E$4),(AB124<=$I$4),(AA124<=$H$4),(Z124<=$G$4),(Y124<=$F$4),(X124<=$D$4)),"Compliant","Non-Compliant") -> Compliant | B124: General Mills | C124: Fiber One Oats & Chocolate | D124: 1.4 | E124: 40 | F124: 1 | G124: 140 | H124: 4 | I124: 35 | J124: 1.5 | K124: 0 | L124: 95 | M124: 10 | N124: =F124*G124 -> 140 | O124: =F124*H124 -> 4 | P124: =(I124*F124)/N124 -> 0.25 | Q124: =F124*J124 -> 1.5 | R124: =(Q124*9)/N124 -> 0.096428571 | S124: =F124*K124 -> 0 | T124: =L124*F124 -> 95 | U124: =M124*F124 -> 10 | V124: =(U124*4)/N124 -> 0.28571429 | W124: =U124/E124 -> 0.25 | X124: =IF($D$3="Calories",N124,"") -> 140 | Y124: =IF($F$3="Grams",O124,IF($F$3="% Calories",P124,"")) -> 4 | Z124: =IF($G$3="Grams",K124,"") | AA124: =IF($H$3="Grams",Q124,IF($H$3="% Calories",R124,"")) -> 1.5 | AB124: =IF($I$3="Milligrams",T124,"") | AC124: =IF($E$3="Grams",U124, IF($E$3="% Calories", V124, IF($E$3="% Weight",W124, ""))) -> 10 | AD124: 1
A125: =IF(AND((AC125<=$E$4),(AB125<=$I$4),(AA125<=$H$4),(Z125<=$G$4),(Y125<=$F$4),(X125<=$D$4)),"Compliant","Non-Compliant") -> Compliant | B125: General Mills | C125: Fiber One Oats & Peanut Butter | D125: 1.4 | E125: 40 | F125: 1 | G125: 150 | H125: 4.5 | I125: 40 | J125: 2 | K125: 0 | L125: 105 | M125: 9 | N125: =F125*G125 -> 150 | O125: =F125*H125 -> 4.5 | P125: =(I125*F125)/N125 -> 0.26666667 | Q125: =F125*J125 -> 2 | R125: =(Q125*9)/N125 -> 0.12 | S125: =F125*K125 -> 0 | T125: =L125*F125 -> 105 | U125: =M125*F125 -> 9 | V125: =(U125*4)/N125 -> 0.24 | W125: =U125/E125 -> 0.225 | X125: =IF($D$3="Calories",N125,"") -> 150 | Y125: =IF($F$3="Grams",O125,IF($F$3="% Calories",P125,"")) -> 4.5 | Z125: =IF($G$3="Grams",K125,"") | AA125: =IF($H$3="Grams",Q125,IF($H$3="% Calories",R125,"")) -> 2 | AB125: =IF($I$3="Milligrams",T125,"") | AC125: =IF($E$3="Grams",U125, IF($E$3="% Calories", V125, IF($E$3="% Weight",W125, ""))) -> 9 | AD125: 1
A126: =IF(AND((AC126<=$E$4),(AB126<=$I$4),(AA126<=$H$4),(Z126<=$G$4),(Y126<=$F$4),(X126<=$D$4)),"Compliant","Non-Compliant") -> Non-Compliant | B126: General Mills | C126: Nature Valley Granola Bar/Oats and Honey | D126: 1.5 | E126: 42 | F126: 1 | G126: 190 | H126: 6 | I126: 60 | J126: 0.5 | K126: 0 | L126: 160 | M126: 12 | N126: =F126*G126 -> 190 | O126: =F126*H126 -> 6 | P126: =(I126*F126)/N126 -> 0.31578947 | Q126: =F126*J126 -> 0.5 | R126: =(Q126*9)/N126 -> 0.023684211 | S126: =F126*K126 -> 0 | T126: =L126*F126 -> 160 | U126: =M126*F126 -> 12 | V126: =(U126*4)/N126 -> 0.25263158 | W126: =U126/E126 -> 0.28571429 | X126: =IF($D$3="Calories",N126,"") -> 190 | Y126: =IF($F$3="Grams",O126,IF($F$3="% Calories",P126,"")) -> 6 | Z126: =IF($G$3="Grams",K126,"") | AA126: =IF($H$3="Grams",Q126,IF($H$3="% Calories",R126,"")) -> 0.5 | AB126: =IF($I$3="Milligrams",T126,"") | AC126: =IF($E$3="Grams",U126, IF($E$3="% Calories", V126, IF($E$3="% Weight",W126, ""))) -> 12 | AD126: 1
A127: =IF(AND((AC127<=$E$4),(AB127<=$I$4),(AA127<=$H$4),(Z127<=$G$4),(Y127<=$F$4),(X127<=$D$4)),"Compliant","Non-Compliant") -> Non-Compliant | B127: General Mills | C127: Nature Valley S&S Almond | D127: 1.2 | E127: 35 | F127: 1 | G127: 160 | H127: 7 | I127: 60 | J127: 2 | K127: 0 | L127: 150 | M127: 12 | N127: =F127*G127 -> 160 | O127: =F127*H127 -> 7 | P127: =(I127*F127)/N127 -> 0.375 | Q127: =F127*J127 -> 2 | R127: =(Q127*9)/N127 -> 0.1125 | S127: =F127*K127 -> 0 | T127: =L127*F127 -> 150 | U127: =M127*F127 -> 12 | V127: =(U127*4)/N127 -> 0.3 | W127: =U127/E127 -> 0.34285714 | X127: =IF($D$3="Calories",N127,"") -> 160 | Y127: =IF($F$3="Grams",O127,IF($F$3="% Calories",P127,"")) -> 7 | Z127: =IF($G$3="Grams",K127,"") | AA127: =IF($H$3="Grams",Q127,IF($H$3="% Calories",R127,"")) -> 2 | AB127: =IF($I$3="Milligrams",T127,"") | AC127: =IF($E$3="Grams",U127, IF($E$3="% Calories", V127, IF($E$3="% Weight",W127, ""))) -> 12 | AD127: 1
A128: =IF(AND((AC128<=$E$4),(AB128<=$I$4),(AA128<=$H$4),(Z128<=$G$4),(Y128<=$F$4),(X128<=$D$4)),"Compliant","Non-Compliant") -> Non-Compliant | B128: General Mills | C128: Nature Valley S&S Peanut | D128: 1.2 | E128: 35 | F128: 1 | G128: 170 | H128: 9 | I128: 70 | J128: 2.5 | K128: 0 | L128: 150 | M128: 11 | N128: =F128*G128 -> 170 | O128: =F128*H128 -> 9 | P128: =(I128*F128)/N128 -> 0.41176471 | Q128: =F128*J128 -> 2.5 | R128: =(Q128*9)/N128 -> 0.13235294 | S128: =F128*K128 -> 0 | T128: =L128*F128 -> 150 | U128: =M128*F128 -> 11 | V128: =(U128*4)/N128 -> 0.25882353 | W128: =U128/E128 -> 0.31428571 | X128: =IF($D$3="Calories",N128,"") -> 170 | Y128: =IF($F$3="Grams",O128,IF($F$3="% Calories",P128,"")) -> 9 | Z128: =IF($G$3="Grams",K128,"") | AA128: =IF($H$3="Grams",Q128,IF($H$3="% Calories",R128,"")) -> 2.5 | AB128: =IF($I$3="Milligrams",T128,"") | AC128: =IF($E$3="Grams",U128, IF($E$3="% Calories", V128, IF($E$3="% Weight",W128, ""))) -> 11 | AD128: 1
A129: =IF(AND((AC129<=$E$4),(AB129<=$I$4),(AA129<=$H$4),(Z129<=$G$4),(Y129<=$F$4),(X129<=$D$4)),"Compliant","Non-Compliant") -> Non-Compliant | B129: General Mills | C129: Natures Valley Chewy Trail Mix/Fruit and Nut | D129: 1.2 | E129: 35 | F129: 1 | G129: 140 | H129: 4 | I129: 35 | J129: 0.5 | K129: 0 | L129: 100 | M129: 14 | N129: =F129*G129 -> 140 | O129: =F129*H129 -> 4 | P129: =(I129*F129)/N129 -> 0.25 | Q129: =F129*J129 -> 0.5 | R129: =(Q129*9)/N129 -> 0.032142857 | S129: =F129*K129 -> 0 | T129: =L129*F129 -> 100 | U129: =M129*F129 -> 14 | V129: =(U129*4)/N129 -> 0.4 | W129: =U129/E129 -> 0.4 | X129: =IF($D$3="Calories",N129,"") -> 140 | Y129: =IF($F$3="Grams",O129,IF($F$3="% Calories",P129,"")) -> 4 | Z129: =IF($G$3="Grams",K129,"") | AA129: =IF($H$3="Grams",Q129,IF($H$3="% Calories",R129,"")) -> 0.5 | AB129: =IF($I$3="Milligrams",T129,"") | AC129: =IF($E$3="Grams",U129, IF($E$3="% Calories", V129, IF($E$3="% Weight",W129, ""))) -> 14 | AD129: 1
A130: =IF(AND((AC130<=$E$4),(AB130<=$I$4),(AA130<=$H$4),(Z130<=$G$4),(Y130<=$F$4),(X130<=$D$4)),"Compliant","Non-Compliant") -> Non-Compliant | B130: General Mills | C130: Natures Valley Crunch Peanut Butter | D130: 1.5 | E130: 42 | F130: 1 | G130: 190 | H130: 7 | I130: 60 | J130: 1 | K130: 0 | L130: 180 | M130: 11 | N130: =F130*G130 -> 190 | O130: =F130*H130 -> 7 | P130: =(I130*F130)/N130 -> 0.31578947 | Q130: =F130*J130 -> 1 | R130: =(Q130*9)/N130 -> 0.047368421 | S130: =F130*K130 -> 0 | T130: =L130*F130 -> 180 | U130: =M130*F130 -> 11 | V130: =(U130*4)/N130 -> 0.23157895 | W130: =U130/E130 -> 0.26190476 | X130: =IF($D$3="Calories",N130,"") -> 190 | Y130: =IF($F$3="Grams",O130,IF($F$3="% Calories",P130,"")) -> 7 | Z130: =IF($G$3="Grams",K130,"") | AA130: =IF($H$3="Grams",Q130,IF($H$3="% Calories",R130,"")) -> 1 | AB130: =IF($I$3="Milligrams",T130,"") | AC130: =IF($E$3="Grams",U130, IF($E$3="% Calories", V130, IF($E$3="% Weight",W130, ""))) -> 11 | AD130: 1
A131: =IF(AND((AC131<=$E$4),(AB131<=$I$4),(AA131<=$H$4),(Z131<=$G$4),(Y131<=$F$4),(X131<=$D$4)),"Compliant","Non-Compliant") -> Non-Compliant | B131: General Mills | C131: Natures Valley Crunchy Granola/Apple Crisp | D131: 1.5 | E131: 42 | F131: 1 | G131: 160 | H131: 6 | I131: 50 | J131: 0.5 | K131: 0 | L131: 140 | M131: 11 | N131: =F131*G131 -> 160 | O131: =F131*H131 -> 6 | P131: =(I131*F131)/N131 -> 0.3125 | Q131: =F131*J131 -> 0.5 | R131: =(Q131*9)/N131 -> 0.028125 | S131: =F131*K131 -> 0 | T131: =L131*F131 -> 140 | U131: =M131*F131 -> 11 | V131: =(U131*4)/N131 -> 0.275 | W131: =U131/E131 -> 0.26190476 | X131: =IF($D$3="Calories",N131,"") -> 160 | Y131: =IF($F$3="Grams",O131,IF($F$3="% Calories",P131,"")) -> 6 | Z131: =IF($G$3="Grams",K131,"") | AA131: =IF($H$3="Grams",Q131,IF($H$3="% Calories",R131,"")) -> 0.5 | AB131: =IF($I$3="Milligrams",T131,"") | AC131: =IF($E$3="Grams",U131, IF($E$3="% Calories", V131, IF($E$3="% Weight",W131, ""))) -> 11 | AD131: 1
A132: =IF(AND((AC132<=$E$4),(AB132<=$I$4),(AA132<=$H$4),(Z132<=$G$4),(Y132<=$F$4),(X132<=$D$4)),"Compliant","Non-Compliant") -> Compliant | B132: General Mills | C132: Simply Chex Cheddar | D132: 0.92 | E132: 26 | F132: 1 | G132: 110 | H132: 2.5 | I132: 25 | J132: 0.5 | K132: 0 | L132: 135 | M132: 4 | N132: =F132*G132 -> 110 | O132: =F132*H132 -> 2.5 | P132: =(I132*F132)/N132 -> 0.22727273 | Q132: =F132*J132 -> 0.5 | R132: =(Q132*9)/N132 -> 0.040909091 | S132: =F132*K132 -> 0 | T132: =L132*F132 -> 135 | U132: =M132*F132 -> 4 | V132: =(U132*4)/N132 -> 0.14545455 | W132: =U132/E132 -> 0.15384615 | X132: =IF($D$3="Calories",N132,"") -> 110 | Y132: =IF($F$3="Grams",O132,IF($F$3="% Calories",P132,"")) -> 2.5 | Z132: =IF($G$3="Grams",K132,"") | AA132: =IF($H$3="Grams",Q132,IF($H$3="% Calories",R132,"")) -> 0.5 | AB132: =IF($I$3="Milligrams",T132,"") | AC132: =IF($E$3="Grams",U132, IF($E$3="% Calories", V132, IF($E$3="% Weight",W132, ""))) -> 4 | AD132: 1
A133: =IF(AND((AC133<=$E$4),(AB133<=$I$4),(AA133<=$H$4),(Z133<=$G$4),(Y133<=$F$4),(X133<=$D$4)),"Compliant","Non-Compliant") -> Compliant | B133: General Mills | C133: Simply Chex Chocolate Caramel | D133: 1.03 | E133: 29 | F133: 1 | G133: 130 | H133: 4 | I133: 40 | J133: 1.5 | K133: 0 | L133: 70 | M133: 8 | N133: =F133*G133 -> 130 | O133: =F133*H133 -> 4 | P133: =(I133*F133)/N133 -> 0.30769231 | Q133: =F133*J133 -> 1.5 | R133: =(Q133*9)/N133 -> 0.10384615 | S133: =F133*K133 -> 0 | T133: =L133*F133 -> 70 | U133: =M133*F133 -> 8 | V133: =(U133*4)/N133 -> 0.24615385 | W133: =U133/E133 -> 0.27586207 | X133: =IF($D$3="Calories",N133,"") -> 130 | Y133: =IF($F$3="Grams",O133,IF($F$3="% Calories",P133,"")) -> 4 | Z133: =IF($G$3="Grams",K133,"") | AA133: =IF($H$3="Grams",Q133,IF($H$3="% Calories",R133,"")) -> 1.5 | AB133: =IF($I$3="Milligrams",T133,"") | AC133: =IF($E$3="Grams",U133, IF($E$3="% Calories", V133, IF($E$3="% Weight",W133, ""))) -> 8 | AD133: 1
A134: =IF(AND((AC134<=$E$4),(AB134<=$I$4),(AA134<=$H$4),(Z134<=$G$4),(Y134<=$F$4),(X134<=$D$4)),"Compliant","Non-Compliant") -> Compliant | B134: General Mills | C134: Simply Chex Strawberry Yogurt | D134: 1.03 | E134: 29 | F134: 1 | G134: 120 | H134: 3 | I134: 25 | J134: 1 | K134: 0 | L134: 55 | M134: 6 | N134: =F134*G134 -> 120 | O134: =F134*H134 -> 3 | P134: =(I134*F134)/N134 -> 0.20833333 | Q134: =F134*J134 -> 1 | R134: =(Q134*9)/N134 -> 0.075 | S134: =F134*K134 -> 0 | T134: =L134*F134 -> 55 | U134: =M134*F134 -> 6 | V134: =(U134*4)/N134 -> 0.2 | W134: =U134/E134 -> 0.20689655 | X134: =IF($D$3="Calories",N134,"") -> 120 | Y134: =IF($F$3="Grams",O134,IF($F$3="% Calories",P134,"")) -> 3 | Z134: =IF($G$3="Grams",K134,"") | AA134: =IF($H$3="Grams",Q134,IF($H$3="% Calories",R134,"")) -> 1 | AB134: =IF($I$3="Milligrams",T134,"") | AC134: =IF($E$3="Grams",U134, IF($E$3="% Calories", V134, IF($E$3="% Weight",W134, ""))) -> 6 | AD134: 1
A135: =IF(AND((AC135<=$E$4),(AB135<=$I$4),(AA135<=$H$4),(Z135<=$G$4),(Y135<=$F$4),(X135<=$D$4)),"Compliant","Non-Compliant") -> Compliant | B135: General Mills | C135: Team Cheerios - Strawberry Cereal Bar | D135: 1.42 | E135: 40 | F135: 1 | G135: 150 | H135: 3 | I135: 30 | J135: 0.5 | K135: 0 | L135: 90 | M135: 9 | N135: =F135*G135 -> 150 | O135: =F135*H135 -> 3 | P135: =(I135*F135)/N135 -> 0.2 | Q135: =F135*J135 -> 0.5 | R135: =(Q135*9)/N135 -> 0.03 | S135: =F135*K135 -> 0 | T135: =L135*F135 -> 90 | U135: =M135*F135 -> 9 | V135: =(U135*4)/N135 -> 0.24 | W135: =U135/E135 -> 0.225 | X135: =IF($D$3="Calories",N135,"") -> 150 | Y135: =IF($F$3="Grams",O135,IF($F$3="% Calories",P135,"")) -> 3 | Z135: =IF($G$3="Grams",K135,"") | AA135: =IF($H$3="Grams",Q135,IF($H$3="% Calories",R135,"")) -> 0.5 | AB135: =IF($I$3="Milligrams",T135,"") | AC135: =IF($E$3="Grams",U135, IF($E$3="% Calories", V135, IF($E$3="% Weight",W135, ""))) -> 9 | AD135: 1
A136: =IF(AND((AC136<=$E$4),(AB136<=$I$4),(AA136<=$H$4),(Z136<=$G$4),(Y136<=$F$4),(X136<=$D$4)),"Compliant","Non-Compliant") -> Non-Compliant | B136: General Mills | C136: Chex Mix - Cheddar | D136: 1.75 | E136: 49 | F136: 1 | G136: 210 | H136: 6 | I136: 50 | J136: 1 | K136: 0 | L136: 370 | M136: 5 | N136: =F136*G136 -> 210 | O136: =F136*H136 -> 6 | P136: =(I136*F136)/N136 -> 0.23809524 | Q136: =F136*J136 -> 1 | R136: =(Q136*9)/N136 -> 0.042857143 | S136: =F136*K136 -> 0 | T136: =L136*F136 -> 370 | U136: =M136*F136 -> 5 | V136: =(U136*4)/N136 -> 0.095238095 | W136: =U136/E136 -> 0.10204082 | X136: =IF($D$3="Calories",N136,"") -> 210 | Y136: =IF($F$3="Grams",O136,IF($F$3="% Calories",P136,"")) -> 6 | Z136: =IF($G$3="Grams",K136,"") | AA136: =IF($H$3="Grams",Q136,IF($H$3="% Calories",R136,"")) -> 1 | AB136: =IF($I$3="Milligrams",T136,"") | AC136: =IF($E$3="Grams",U136, IF($E$3="% Calories", V136, IF($E$3="% Weight",W136, ""))) -> 5 | AD136: 1
A137: =IF(AND((AC137<=$E$4),(AB137<=$I$4),(AA137<=$H$4),(Z137<=$G$4),(Y137<=$F$4),(X137<=$D$4)),"Compliant","Non-Compliant") -> Non-Compliant | B137: General Mills | C137: Chex Mix - Traditional | D137: 1.75 | E137: 49 | F137: =E137/29 -> 1.6896552 | G137: 120 | H137: 3.5 | I137: 30 | J137: 0.5 | K137: 0 | L137: 210 | M137: 2 | N137: =F137*G137 -> 202.75862 | O137: =F137*H137 -> 5.9137931 | P137: =(I137*F137)/N137 -> 0.25 | Q137: =F137*J137 -> 0.84482759 | R137: =(Q137*9)/N137 -> 0.0375 | S137: =F137*K137 -> 0 | T137: =L137*F137 -> 354.82759 | U137: =M137*F137 -> 3.3793103 | V137: =(U137*4)/N137 -> 0.066666667 | W137: =U137/E137 -> 0.068965517 | X137: =IF($D$3="Calories",N137,"") -> 202.75862 | Y137: =IF($F$3="Grams",O137,IF($F$3="% Calories",P137,"")) -> 5.9137931 | Z137: =IF($G$3="Grams",K137,"") | AA137: =IF($H$3="Grams",Q137,IF($H$3="% Calories",R137,"")) -> 0.84482759 | AB137: =IF($I$3="Milligrams",T137,"") | AC137: =IF($E$3="Grams",U137, IF($E$3="% Calories", V137, IF($E$3="% Weight",W137, ""))) -> 3.3793103 | AD137: 1
A138: =IF(AND((AC138<=$E$4),(AB138<=$I$4),(AA138<=$H$4),(Z138<=$G$4),(Y138<=$F$4),(X138<=$D$4)),"Compliant","Non-Compliant") -> Non-Compliant | B138: General Mills | C138: Cinnamon Brown Sugar | D138: 1.87 | E138: 53 | F138: 1 | G138: 230 | H138: 8 | I138: 70 | J138: 1 | K138: 0 | L138: 190 | M138: 13 | N138: =F138*G138 -> 230 | O138: =F138*H138 -> 8 | P138: =(I138*F138)/N138 -> 0.30434783 | Q138: =F138*J138 -> 1 | R138: =(Q138*9)/N138 -> 0.039130435 | S138: =F138*K138 -> 0 | T138: =L138*F138 -> 190 | U138: =M138*F138 -> 13 | V138: =(U138*4)/N138 -> 0.22608696 | W138: =U138/E138 -> 0.24528302 | X138: =IF($D$3="Calories",N138,"") -> 230 | Y138: =IF($F$3="Grams",O138,IF($F$3="% Calories",P138,"")) -> 8 | Z138: =IF($G$3="Grams",K138,"") | AA138: =IF($H$3="Grams",Q138,IF($H$3="% Calories",R138,"")) -> 1 | AB138: =IF($I$3="Milligrams",T138,"") | AC138: =IF($E$3="Grams",U138, IF($E$3="% Calories", V138, IF($E$3="% Weight",W138, ""))) -> 13 | AD138: 1
A139: =IF(AND((AC139<=$E$4),(AB139<=$I$4),(AA139<=$H$4),(Z139<=$G$4),(Y139<=$F$4),(X139<=$D$4)),"Compliant","Non-Compliant") -> Non-Compliant | B139: General Mills | C139: Gardetto's - Original Recipe | D139: 1.75 | E139: 49 | F139: 1 | G139: 230 | H139: 9 | I139: 80 | J139: 1.5 | K139: 1.5 | L139: 470 | M139: 1 | N139: =F139*G139 -> 230 | O139: =F139*H139 -> 9 | P139: =(I139*F139)/N139 -> 0.34782609 | Q139: =F139*J139 -> 1.5 | R139: =(Q139*9)/N139 -> 0.058695652 | S139: =F139*K139 -> 1.5 | T139: =L139*F139 -> 470 | U139: =M139*F139 -> 1 | V139: =(U139*4)/N139 -> 0.017391304 | W139: =U139/E139 -> 0.020408163 | X139: =IF($D$3="Calories",N139,"") -> 230 | Y139: =IF($F$3="Grams",O139,IF($F$3="% Calories",P139,"")) -> 9 | Z139: =IF($G$3="Grams",K139,"") | AA139: =IF($H$3="Grams",Q139,IF($H$3="% Calories",R139,"")) -> 1.5 | AB139: =IF($I$3="Milligrams",T139,"") | AC139: =IF($E$3="Grams",U139, IF($E$3="% Calories", V139, IF($E$3="% Weight",W139, ""))) -> 1 | AD139: 1
A140: =IF(AND((AC140<=$E$4),(AB140<=$I$4),(AA140<=$H$4),(Z140<=$G$4),(Y140<=$F$4),(X140<=$D$4)),"Compliant","Non-Compliant") -> Non-Compliant | B140: Herr's | C140: Jalapeno Poppers Cheese Curls | D140: 1 | E140: 28 | F140: 1 | G140: 150 | H140: 8 | I140: 80 | J140: 1.5 | K140: 0 | L140: 410 | M140: 2 | N140: =F140*G140 -> 150 | O140: =F140*H140 -> 8 | P140: =(I140*F140)/N140 -> 0.53333333 | Q140: =F140*J140 -> 1.5 | R140: =(Q140*9)/N140 -> 0.09 | S140: =F140*K140 -> 0 | T140: =L140*F140 -> 410 | U140: =M140*F140 -> 2 | V140: =(U140*4)/N140 -> 0.053333333 | W140: =U140/E140 -> 0.071428571 | X140: =IF($D$3="Calories",N140,"") -> 150 | Y140: =IF($F$3="Grams",O140,IF($F$3="% Calories",P140,"")) -> 8 | Z140: =IF($G$3="Grams",K140,"") | AA140: =IF($H$3="Grams",Q140,IF($H$3="% Calories",R140,"")) -> 1.5 | AB140: =IF($I$3="Milligrams",T140,"") | AC140: =IF($E$3="Grams",U140, IF($E$3="% Calories", V140, IF($E$3="% Weight",W140, ""))) -> 2 | AD140: 1
A141: =IF(AND((AC141<=$E$4),(AB141<=$I$4),(AA141<=$H$4),(Z141<=$G$4),(Y141<=$F$4),(X141<=$D$4)),"Compliant","Non-Compliant") -> Compliant | B141: Hershey | C141: Breath Savers - Peppermint | D141: 0.75 | E141: =1.8*12 -> 21.6 | F141: 12 | G141: 5 | H141: 0 | I141: 0 | J141: 0 | K141: 0 | L141: 0 | M141: 0 | N141: =F141*G141 -> 60 | O141: =F141*H141 -> 0 | P141: =(I141*F141)/N141 -> 0 | Q141: =F141*J141 -> 0 | R141: =(Q141*9)/N141 -> 0 | S141: =F141*K141 -> 0 | T141: =L141*F141 -> 0 | U141: =M141*F141 -> 0 | V141: =(U141*4)/N141 -> 0 | W141: =U141/E141 -> 0 | X141: =IF($D$3="Calories",N141,"") -> 60 | Y141: =IF($F$3="Grams",O141,IF($F$3="% Calories",P141,"")) -> 0 | Z141: =IF($G$3="Grams",K141,"") | AA141: =IF($H$3="Grams",Q141,IF($H$3="% Calories",R141,"")) -> 0 | AB141: =IF($I$3="Milligrams",T141,"") | AC141: =IF($E$3="Grams",U141, IF($E$3="% Calories", V141, IF($E$3="% Weight",W141, ""))) -> 0 | AD141: 1
A142: =IF(AND((AC142<=$E$4),(AB142<=$I$4),(AA142<=$H$4),(Z142<=$G$4),(Y142<=$F$4),(X142<=$D$4)),"Compliant","Non-Compliant") -> Non-Compliant | B142: Hershey's | C142: Cadbury Caramello Milk Chocolate Bar | D142: 1.6 | E142: 45 | F142: 1 | G142: 210 | H142: 10 | I142: 80 | J142: 6 | K142: 0 | L142: 45 | M142: 25 | N142: =F142*G142 -> 210 | O142: =F142*H142 -> 10 | P142: =(I142*F142)/N142 -> 0.38095238 | Q142: =F142*J142 -> 6 | R142: =(Q142*9)/N142 -> 0.25714286 | S142: =F142*K142 -> 0 | T142: =L142*F142 -> 45 | U142: =M142*F142 -> 25 | V142: =(U142*4)/N142 -> 0.47619048 | W142: =U142/E142 -> 0.55555556 | X142: =IF($D$3="Calories",N142,"") -> 210 | Y142: =IF($F$3="Grams",O142,IF($F$3="% Calories",P142,"")) -> 10 | Z142: =IF($G$3="Grams",K142,"") | AA142: =IF($H$3="Grams",Q142,IF($H$3="% Calories",R142,"")) -> 6 | AB142: =IF($I$3="Milligrams",T142,"") | AC142: =IF($E$3="Grams",U142, IF($E$3="% Calories", V142, IF($E$3="% Weight",W142, ""))) -> 25 | AD142: 1
A143: =IF(AND((AC143<=$E$4),(AB143<=$I$4),(AA143<=$H$4),(Z143<=$G$4),(Y143<=$F$4),(X143<=$D$4)),"Compliant","Non-Compliant") -> Non-Compliant | B143: Hershey's | C143: Cookies 'n' Crème Candy Bar | D143: 1.55 | E143: 43 | F143: 1 | G143: 220 | H143: 12 | I143: 100 | J143: 7 | K143: 0 | L143: 90 | M143: 20 | N143: =F143*G143 -> 220 | O143: =F143*H143 -> 12 | P143: =(I143*F143)/N143 -> 0.45454545 | Q143: =F143*J143 -> 7 | R143: =(Q143*9)/N143 -> 0.28636364 | S143: =F143*K143 -> 0 | T143: =L143*F143 -> 90 | U143: =M143*F143 -> 20 | V143: =(U143*4)/N143 -> 0.36363636 | W143: =U143/E143 -> 0.46511628 | X143: =IF($D$3="Calories",N143,"") -> 220 | Y143: =IF($F$3="Grams",O143,IF($F$3="% Calories",P143,"")) -> 12 | Z143: =IF($G$3="Grams",K143,"") | AA143: =IF($H$3="Grams",Q143,IF($H$3="% Calories",R143,"")) -> 7 | AB143: =IF($I$3="Milligrams",T143,"") | AC143: =IF($E$3="Grams",U143, IF($E$3="% Calories", V143, IF($E$3="% Weight",W143, ""))) -> 20 | AD143: 1
A144: =IF(AND((AC144<=$E$4),(AB144<=$I$4),(AA144<=$H$4),(Z144<=$G$4),(Y144<=$F$4),(X144<=$D$4)),"Compliant","Non-Compliant") -> Non-Compliant | B144: Hershey's | C144: Hersey's Milk Chocolate | D144: 1.84 | E144: 52.2 | F144: 1 | G144: 210 | H144: 13 | I144: 110 | J144: 8 | K144: 0 | L144: 35 | M144: 24 | N144: =F144*G144 -> 210 | O144: =F144*H144 -> 13 | P144: =(I144*F144)/N144 -> 0.52380952 | Q144: =F144*J144 -> 8 | R144: =(Q144*9)/N144 -> 0.34285714 | S144: =F144*K144 -> 0 | T144: =L144*F144 -> 35 | U144: =M144*F144 -> 24 | V144: =(U144*4)/N144 -> 0.45714286 | W144: =U144/E144 -> 0.45977011 | X144: =IF($D$3="Calories",N144,"") -> 210 | Y144: =IF($F$3="Grams",O144,IF($F$3="% Calories",P144,"")) -> 13 | Z144: =IF($G$3="Grams",K144,"") | AA144: =IF($H$3="Grams",Q144,IF($H$3="% Calories",R144,"")) -> 8 | AB144: =IF($I$3="Milligrams",T144,"") | AC144: =IF($E$3="Grams",U144, IF($E$3="% Calories", V144, IF($E$3="% Weight",W144, ""))) -> 24 | AD144: 1
A145: =IF(AND((AC145<=$E$4),(AB145<=$I$4),(AA145<=$H$4),(Z145<=$G$4),(Y145<=$F$4),(X145<=$D$4)),"Compliant","Non-Compliant") -> Non-Compliant | B145: Hershey's | C145: Hersey's Milk Chocolate with Almonds | D145: 1.55 | E145: 43 | F145: 1 | G145: 210 | H145: 14 | I145: 130 | J145: 6 | K145: 0 | L145: 25 | M145: 19 | N145: =F145*G145 -> 210 | O145: =F145*H145 -> 14 | P145: =(I145*F145)/N145 -> 0.61904762 | Q145: =F145*J145 -> 6 | R145: =(Q145*9)/N145 -> 0.25714286 | S145: =F145*K145 -> 0 | T145: =L145*F145 -> 25 | U145: =M145*F145 -> 19 | V145: =(U145*4)/N145 -> 0.36190476 | W145: =U145/E145 -> 0.44186047 | X145: =IF($D$3="Calories",N145,"") -> 210 | Y145: =IF($F$3="Grams",O145,IF($F$3="% Calories",P145,"")) -> 14 | Z145: =IF($G$3="Grams",K145,"") | AA145: =IF($H$3="Grams",Q145,IF($H$3="% Calories",R145,"")) -> 6 | AB145: =IF($I$3="Milligrams",T145,"") | AC145: =IF($E$3="Grams",U145, IF($E$3="% Calories", V145, IF($E$3="% Weight",W145, ""))) -> 19 | AD145: 1
A146: =IF(AND((AC146<=$E$4),(AB146<=$I$4),(AA146<=$H$4),(Z146<=$G$4),(Y146<=$F$4),(X146<=$D$4)),"Compliant","Non-Compliant") -> Non-Compliant | B146: Hershey's | C146: Mr. Goodbar | D146: 1.75 | E146: 49 | F146: 1 | G146: 250 | H146: 17 | I146: 140 | J146: 7 | K146: 0 | L146: 50 | M146: 22 | N146: =F146*G146 -> 250 | O146: =F146*H146 -> 17 | P146: =(I146*F146)/N146 -> 0.56 | Q146: =F146*J146 -> 7 | R146: =(Q146*9)/N146 -> 0.252 | S146: =F146*K146 -> 0 | T146: =L146*F146 -> 50 | U146: =M146*F146 -> 22 | V146: =(U146*4)/N146 -> 0.352 | W146: =U146/E146 -> 0.44897959 | X146: =IF($D$3="Calories",N146,"") -> 250 | Y146: =IF($F$3="Grams",O146,IF($F$3="% Calories",P146,"")) -> 17 | Z146: =IF($G$3="Grams",K146,"") | AA146: =IF($H$3="Grams",Q146,IF($H$3="% Calories",R146,"")) -> 7 | AB146: =IF($I$3="Milligrams",T146,"") | AC146: =IF($E$3="Grams",U146, IF($E$3="% Calories", V146, IF($E$3="% Weight",W146, ""))) -> 22 | AD146: 1
A147: =IF(AND((AC147<=$E$4),(AB147<=$I$4),(AA147<=$H$4),(Z147<=$G$4),(Y147<=$F$4),(X147<=$D$4)),"Compliant","Non-Compliant") -> Non-Compliant | B147: Hershey's | C147: Payday | E147: 52 | F147: 1 | G147: 240 | H147: 13 | I147: 110 | J147: 2 | K147: 0 | L147: 120 | M147: 21 | N147: =F147*G147 -> 240 | O147: =F147*H147 -> 13 | P147: =(I147*F147)/N147 -> 0.45833333 | Q147: =F147*J147 -> 2 | R147: =(Q147*9)/N147 -> 0.075 | S147: =F147*K147 -> 0 | T147: =L147*F147 -> 120 | U147: =M147*F147 -> 21 | V147: =(U147*4)/N147 -> 0.35 | W147: =U147/E147 -> 0.40384615 | X147: =IF($D$3="Calories",N147,"") -> 240 | Y147: =IF($F$3="Grams",O147,IF($F$3="% Calories",P147,"")) -> 13 | Z147: =IF($G$3="Grams",K147,"") | AA147: =IF($H$3="Grams",Q147,IF($H$3="% Calories",R147,"")) -> 2 | AB147: =IF($I$3="Milligrams",T147,"") | AC147: =IF($E$3="Grams",U147, IF($E$3="% Calories", V147, IF($E$3="% Weight",W147, ""))) -> 21 | AD147: 1
A148: =IF(AND((AC148<=$E$4),(AB148<=$I$4),(AA148<=$H$4),(Z148<=$G$4),(Y148<=$F$4),(X148<=$D$4)),"Compliant","Non-Compliant") -> Non-Compliant | B148: Hershey's | C148: Reese's - 2 cups | D148: 1.5 | E148: 42 | F148: 1 | G148: 210 | H148: 13 | I148: 110 | J148: 4.5 | K148: 0 | L148: 150 | M148: 21 | N148: =F148*G148 -> 210 | O148: =F148*H148 -> 13 | P148: =(I148*F148)/N148 -> 0.52380952 | Q148: =F148*J148 -> 4.5 | R148: =(Q148*9)/N148 -> 0.19285714 | S148: =F148*K148 -> 0 | T148: =L148*F148 -> 150 | U148: =M148*F148 -> 21 | V148: =(U148*4)/N148 -> 0.4 | W148: =U148/E148 -> 0.5 | X148: =IF($D$3="Calories",N148,"") -> 210 | Y148: =IF($F$3="Grams",O148,IF($F$3="% Calories",P148,"")) -> 13 | Z148: =IF($G$3="Grams",K148,"") | AA148: =IF($H$3="Grams",Q148,IF($H$3="% Calories",R148,"")) -> 4.5 | AB148: =IF($I$3="Milligrams",T148,"") | AC148: =IF($E$3="Grams",U148, IF($E$3="% Calories", V148, IF($E$3="% Weight",W148, ""))) -> 21 | AD148: 1
A149: =IF(AND((AC149<=$E$4),(AB149<=$I$4),(AA149<=$H$4),(Z149<=$G$4),(Y149<=$F$4),(X149<=$D$4)),"Compliant","Non-Compliant") -> Non-Compliant | B149: Hershey's | C149: Whatchamacallit | D149: 1.7 | E149: 48 | F149: 1 | G149: 230 | H149: 12 | I149: 110 | J149: 9 | K149: 0 | L149: 140 | M149: 21 | N149: =F149*G149 -> 230 | O149: =F149*H149 -> 12 | P149: =(I149*F149)/N149 -> 0.47826087 | Q149: =F149*J149 -> 9 | R149: =(Q149*9)/N149 -> 0.35217391 | S149: =F149*K149 -> 0 | T149: =L149*F149 -> 140 | U149: =M149*F149 -> 21 | V149: =(U149*4)/N149 -> 0.36521739 | W149: =U149/E149 -> 0.4375 | X149: =IF($D$3="Calories",N149,"") -> 230 | Y149: =IF($F$3="Grams",O149,IF($F$3="% Calories",P149,"")) -> 12 | Z149: =IF($G$3="Grams",K149,"") | AA149: =IF($H$3="Grams",Q149,IF($H$3="% Calories",R149,"")) -> 9 | AB149: =IF($I$3="Milligrams",T149,"") | AC149: =IF($E$3="Grams",U149, IF($E$3="% Calories", V149, IF($E$3="% Weight",W149, ""))) -> 21 | AD149: 1
...

Sheet Admin
A1: Total Calories | B1: Sugar | C1: Fat/Sat | D1: Trans | E1: Sodium*
A2: Metric | B2: Metric | C2: Metric | E2: Metric
A4: Calories | B4: Grams | C4: Grams | D4: Grams | E4: Milligrams
B5: % Calories | C5: % Calories
B6: % Weight
